BEGIN:VCALENDAR
VERSION:2.0
BEGIN:VEVENT
TZID:Europe/Paris
STATUS:CONFIRMED
DTSTART:20251003T090000
DTEND:20251003T100000
SUMMARY:Pilates et Périnée : protection du périnée au quotidien
DESCRIPTION:<p><b>Titre de la conférence</b> : Pilates et Périnée : protection du périnée au quotidien </p>
 <p><b>Date et heure de la conférence</b> : 03/10/2025 09h00</p>
 <p><b>Durée de la conférence </b>: 60 minutes</p>
 <b>Description</b> : <p>D&eacute\;couvrez comment le Pilates peut devenir votre alli&eacute\; indispensable pour la protection et le renforcement de votre p&eacute\;rin&eacute\;e au quotidien.</p>\n\n<p>&nbsp\;</p>\n\n<p><span style=\"color:#2ecc71\">Pour rappel l&#39\;IRCEM Pr&eacute\;voyance finance votre 1er bilan nutritionnel d&#39\;une valeur de 70 euros \, 5 euros seulement restent &agrave\; votre charge.</span></p>\n<p><a href="http://www.happyvisio.com/conference/7361-Pilates-et-Perinee-protection-du-perinee-au-quotidien">Cliquez-ici pour obtenir plus d’informations ou vous connecter à la conférence</a></p>
X-ALT-DESC;FMTTYPE=text/html:<p><b>Titre de la conférence</b> : Pilates et Périnée : protection du périnée au quotidien </p>
 <p><b>Date et heure de la conférence</b> : 03/10/2025 09h00</p>
 <p><b>Durée de la conférence </b>: 60 minutes</p>
 <b>Description</b> : <p>D&eacute\;couvrez comment le Pilates peut devenir votre alli&eacute\; indispensable pour la protection et le renforcement de votre p&eacute\;rin&eacute\;e au quotidien.</p>\n\n<p>&nbsp\;</p>\n\n<p><span style=\"color:#2ecc71\">Pour rappel l&#39\;IRCEM Pr&eacute\;voyance finance votre 1er bilan nutritionnel d&#39\;une valeur de 70 euros \, 5 euros seulement restent &agrave\; votre charge.</span></p>\n<p><a href="http://www.happyvisio.com/conference/7361-Pilates-et-Perinee-protection-du-perinee-au-quotidien">Cliquez-ici pour obtenir plus d’informations ou vous connecter à la conférence</a></p>
END:VEVENT
END:VCALENDAR
