BEGIN:VCALENDAR
VERSION:2.0
BEGIN:VEVENT
TZID:Europe/Paris
STATUS:CONFIRMED
DTSTART:20260401T110000
DTEND:20260401T120000
SUMMARY:Séance : Sieste et sommeil, trouver le bon équilibre
DESCRIPTION:<p><b>Titre de l’atelier</b> : Sieste et sommeil : trouver le bon équilibre </p>
 <p><b>Titre de la séance</b> : Séance : Sieste et sommeil, trouver le bon équilibre </p>
 <p><b>Date et heure de la séance</b> : 01/04/2026 11h00</p>
 <p><b>Durée de la séance </b>: 60 minutes</p>
 \n<p><a href="http://www.happyvisio.com/course/4070-sieste-et-sommeil-trouver-le-bon-equilibre">Cliquez-ici pour obtenir plus d’informations ou vous connecter à la séance</a></p>
X-ALT-DESC;FMTTYPE=text/html:<p><b>Titre de l’atelier</b> : Sieste et sommeil : trouver le bon équilibre </p>
 <p><b>Titre de la séance</b> : Séance : Sieste et sommeil, trouver le bon équilibre </p>
 <p><b>Date et heure de la séance</b> : 01/04/2026 11h00</p>
 <p><b>Durée de la séance </b>: 60 minutes</p>
 \n<p><a href="http://www.happyvisio.com/course/4070-sieste-et-sommeil-trouver-le-bon-equilibre">Cliquez-ici pour obtenir plus d’informations ou vous connecter à la séance</a></p>
END:VEVENT
END:VCALENDAR
