BEGIN:VCALENDAR
VERSION:2.0
BEGIN:VEVENT
TZID:Europe/Paris
STATUS:CONFIRMED
DTSTART:20260312T203000
DTEND:20260312T220000
SUMMARY:Séance : L’équilibre alimentaire
DESCRIPTION:TITRE DE L’ATELIER : L’équilibre alimentaire\n\nTITRE DE LA SÉANCE : Séance : L’équilibre alimentaire\n\nDATE ET HEURE DE LA SÉANCE : 12/03/2026 20h30\n\nDURÉE DE LA SÉANCE : 90 minutes\n\nDESCRIPTION : Une alimentation équilibrée\, c'est quoi ? Parce que les bonnes habitudes alimentaires se prennent dès la petite enfance\, cet atelier vous permet de connaitre les bases d'une bonne alimentation\, saine et variée\, pour le bon développement de bébé.\n\nCliquez sur le lien suivant pour plus d'informations ou vous connecter à la séance : http://www.happyvisio.com/course/3909-l-equilibre-alimentaire
X-ALT-DESC;FMTTYPE=text/html:TITRE DE L’ATELIER : L’équilibre alimentaire\n\nTITRE DE LA SÉANCE : Séance : L’équilibre alimentaire\n\nDATE ET HEURE DE LA SÉANCE : 12/03/2026 20h30\n\nDURÉE DE LA SÉANCE : 90 minutes\n\nDESCRIPTION : Une alimentation équilibrée\, c'est quoi ? Parce que les bonnes habitudes alimentaires se prennent dès la petite enfance\, cet atelier vous permet de connaitre les bases d'une bonne alimentation\, saine et variée\, pour le bon développement de bébé.\n\nCliquez sur le lien suivant pour plus d'informations ou vous connecter à la séance : http://www.happyvisio.com/course/3909-l-equilibre-alimentaire
END:VEVENT
END:VCALENDAR
