BEGIN:VCALENDAR
VERSION:2.0
BEGIN:VEVENT
TZID:Europe/Paris
STATUS:CONFIRMED
DTSTART:20251216T140000
DTEND:20251216T153000
SUMMARY:Séance 6 : Faire vos courses et conserver les aliments
DESCRIPTION:TITRE DE L’ATELIER : Cuisine & Santé\n\nTITRE DE LA SÉANCE : Séance 6 : Faire vos courses et conserver les aliments\n\nDATE ET HEURE DE LA SÉANCE : 16/12/2025 14h00\n\nDURÉE DE LA SÉANCE : 90 minutes\n\nDESCRIPTION : Cette séance finale vous aidera à acquérir les réflexes pour lire les étiquettes et choisir les aliments qui bénéficient d’un bon rapport qualité/prix. L’intervenante vous apprendra aussi à maîtriser les bases de l’hygiène alimentaire du transport à la conservation de vos aliments.\n\nCliquez sur le lien suivant pour plus d'informations ou vous connecter à la séance : http://www.happyvisio.com/course/3731-cuisine-sante
X-ALT-DESC;FMTTYPE=text/html:TITRE DE L’ATELIER : Cuisine & Santé\n\nTITRE DE LA SÉANCE : Séance 6 : Faire vos courses et conserver les aliments\n\nDATE ET HEURE DE LA SÉANCE : 16/12/2025 14h00\n\nDURÉE DE LA SÉANCE : 90 minutes\n\nDESCRIPTION : Cette séance finale vous aidera à acquérir les réflexes pour lire les étiquettes et choisir les aliments qui bénéficient d’un bon rapport qualité/prix. L’intervenante vous apprendra aussi à maîtriser les bases de l’hygiène alimentaire du transport à la conservation de vos aliments.\n\nCliquez sur le lien suivant pour plus d'informations ou vous connecter à la séance : http://www.happyvisio.com/course/3731-cuisine-sante
END:VEVENT
END:VCALENDAR
