BEGIN:VCALENDAR
VERSION:2.0
BEGIN:VEVENT
TZID:Europe/Paris
STATUS:CONFIRMED
DTSTART:20251209T140000
DTEND:20251209T153000
SUMMARY:Séance 5 : Allier plaisir de manger et équilibre alimentaire
DESCRIPTION:<p><b>Titre de l’atelier</b> : Cuisine & Santé </p>
 <p><b>Titre de la séance</b> : Séance 5 : Allier plaisir de manger et équilibre alimentaire </p>
 <p><b>Date et heure de la séance</b> : 09/12/2025 14h00</p>
 <p><b>Durée de la séance </b>: 90 minutes</p>
 <b>Description</b> : <p style=\"text-align:justify\">Dans cette 5&egrave\;me s&eacute\;ance\, il sera question d&rsquo\;adopter le bon rythme alimentaire et de retrouver le plaisir de cuisiner pour soi et pour les autres.</p>\n<p><a href="http://www.happyvisio.com/course/3731-cuisine-sante">Cliquez-ici pour obtenir plus d’informations ou vous connecter à la séance</a></p>
X-ALT-DESC;FMTTYPE=text/html:<p><b>Titre de l’atelier</b> : Cuisine & Santé </p>
 <p><b>Titre de la séance</b> : Séance 5 : Allier plaisir de manger et équilibre alimentaire </p>
 <p><b>Date et heure de la séance</b> : 09/12/2025 14h00</p>
 <p><b>Durée de la séance </b>: 90 minutes</p>
 <b>Description</b> : <p style=\"text-align:justify\">Dans cette 5&egrave\;me s&eacute\;ance\, il sera question d&rsquo\;adopter le bon rythme alimentaire et de retrouver le plaisir de cuisiner pour soi et pour les autres.</p>\n<p><a href="http://www.happyvisio.com/course/3731-cuisine-sante">Cliquez-ici pour obtenir plus d’informations ou vous connecter à la séance</a></p>
END:VEVENT
END:VCALENDAR
