BEGIN:VCALENDAR
VERSION:2.0
BEGIN:VEVENT
TZID:Europe/Paris
STATUS:CONFIRMED
DTSTART:20251202T140000
DTEND:20251202T153000
SUMMARY:Séance 4 : Adapter vos menus à votre santé
DESCRIPTION:<p><b>Titre de l’atelier</b> : Cuisine & Santé </p>
 <p><b>Titre de la séance</b> : Séance 4 : Adapter vos menus à votre santé </p>
 <p><b>Date et heure de la séance</b> : 02/12/2025 14h00</p>
 <p><b>Durée de la séance </b>: 90 minutes</p>
 <b>Description</b> : <p style=\"text-align:justify\">Nous comprendrons ici quel r&ocirc\;le l&rsquo\;alimentation a sur notre bien-&ecirc\;tre : m&eacute\;moire\, sommeil&hellip\; L&rsquo\;intervenante vous prodiguera &eacute\;galement des conseils d&rsquo\;alimentation particuliers si vous souffrez de diab&egrave\;te\, d&rsquo\;hypertension\, ou encore de cholest&eacute\;rol.</p>\n<p><a href="http://www.happyvisio.com/course/3731-cuisine-sante">Cliquez-ici pour obtenir plus d’informations ou vous connecter à la séance</a></p>
X-ALT-DESC;FMTTYPE=text/html:<p><b>Titre de l’atelier</b> : Cuisine & Santé </p>
 <p><b>Titre de la séance</b> : Séance 4 : Adapter vos menus à votre santé </p>
 <p><b>Date et heure de la séance</b> : 02/12/2025 14h00</p>
 <p><b>Durée de la séance </b>: 90 minutes</p>
 <b>Description</b> : <p style=\"text-align:justify\">Nous comprendrons ici quel r&ocirc\;le l&rsquo\;alimentation a sur notre bien-&ecirc\;tre : m&eacute\;moire\, sommeil&hellip\; L&rsquo\;intervenante vous prodiguera &eacute\;galement des conseils d&rsquo\;alimentation particuliers si vous souffrez de diab&egrave\;te\, d&rsquo\;hypertension\, ou encore de cholest&eacute\;rol.</p>\n<p><a href="http://www.happyvisio.com/course/3731-cuisine-sante">Cliquez-ici pour obtenir plus d’informations ou vous connecter à la séance</a></p>
END:VEVENT
END:VCALENDAR
