BEGIN:VCALENDAR
VERSION:2.0
BEGIN:VEVENT
TZID:Europe/Paris
STATUS:CONFIRMED
DTSTART:20251125T140000
DTEND:20251125T153000
SUMMARY:Séance 3 : Bouger tous les jours
DESCRIPTION:TITRE DE L’ATELIER : Cuisine & Santé\n\nTITRE DE LA SÉANCE : Séance 3 : Bouger tous les jours\n\nDATE ET HEURE DE LA SÉANCE : 25/11/2025 14h00\n\nDURÉE DE LA SÉANCE : 90 minutes\n\nDESCRIPTION : L’activité physique est déterminante pour notre santé. La conjuguer avec une bonne alimentation est essentiel. Cette séance vous (re)donnera envie de bouger grâce à des idées d’activités faciles à pratiquer.\n\nCliquez sur le lien suivant pour plus d'informations ou vous connecter à la séance : http://www.happyvisio.com/course/3731-cuisine-sante
X-ALT-DESC;FMTTYPE=text/html:TITRE DE L’ATELIER : Cuisine & Santé\n\nTITRE DE LA SÉANCE : Séance 3 : Bouger tous les jours\n\nDATE ET HEURE DE LA SÉANCE : 25/11/2025 14h00\n\nDURÉE DE LA SÉANCE : 90 minutes\n\nDESCRIPTION : L’activité physique est déterminante pour notre santé. La conjuguer avec une bonne alimentation est essentiel. Cette séance vous (re)donnera envie de bouger grâce à des idées d’activités faciles à pratiquer.\n\nCliquez sur le lien suivant pour plus d'informations ou vous connecter à la séance : http://www.happyvisio.com/course/3731-cuisine-sante
END:VEVENT
END:VCALENDAR
