BEGIN:VCALENDAR
VERSION:2.0
BEGIN:VEVENT
TZID:Europe/Paris
STATUS:CONFIRMED
DTSTART:20251118T140000
DTEND:20251118T153000
SUMMARY:Séance 2 : L'évolution de vos besoins nutritionnels
DESCRIPTION:TITRE DE L’ATELIER : Cuisine & Santé\n\nTITRE DE LA SÉANCE : Séance 2 : L'évolution de vos besoins nutritionnels\n\nDATE ET HEURE DE LA SÉANCE : 18/11/2025 14h00\n\nDURÉE DE LA SÉANCE : 90 minutes\n\nDESCRIPTION : Vous identifierez quels aliments sont à privilégier en fonction de vos besoins et dans quelle proportion. Des conseils pratiques vous seront donnés pour les cuisiner de façon gourmande en conservant leurs vertus !\n\nCliquez sur le lien suivant pour plus d'informations ou vous connecter à la séance : http://www.happyvisio.com/course/3731-cuisine-sante
X-ALT-DESC;FMTTYPE=text/html:TITRE DE L’ATELIER : Cuisine & Santé\n\nTITRE DE LA SÉANCE : Séance 2 : L'évolution de vos besoins nutritionnels\n\nDATE ET HEURE DE LA SÉANCE : 18/11/2025 14h00\n\nDURÉE DE LA SÉANCE : 90 minutes\n\nDESCRIPTION : Vous identifierez quels aliments sont à privilégier en fonction de vos besoins et dans quelle proportion. Des conseils pratiques vous seront donnés pour les cuisiner de façon gourmande en conservant leurs vertus !\n\nCliquez sur le lien suivant pour plus d'informations ou vous connecter à la séance : http://www.happyvisio.com/course/3731-cuisine-sante
END:VEVENT
END:VCALENDAR
