BEGIN:VCALENDAR
VERSION:2.0
BEGIN:VEVENT
TZID:Europe/Paris
STATUS:CONFIRMED
DTSTART:20251104T140000
DTEND:20251104T153000
SUMMARY:Séance 1 : Les clés de votre équilibre alimentaire
DESCRIPTION:TITRE DE L’ATELIER : Cuisine & Santé\n\nTITRE DE LA SÉANCE : Séance 1 : Les clés de votre équilibre alimentaire\n\nDATE ET HEURE DE LA SÉANCE : 04/11/2025 14h00\n\nDURÉE DE LA SÉANCE : 90 minutes\n\nDESCRIPTION : Cette première séance sera pour vous l’occasion de faire un état des lieux de vos habitudes. Elle vous permettra de découvrir ou redécouvrir les bases de l’équilibre alimentaire ainsi que les facteurs qui influencent nos choix en termes d’alimentation.\n\nCliquez sur le lien suivant pour plus d'informations ou vous connecter à la séance : http://www.happyvisio.com/course/3731-cuisine-sante
X-ALT-DESC;FMTTYPE=text/html:TITRE DE L’ATELIER : Cuisine & Santé\n\nTITRE DE LA SÉANCE : Séance 1 : Les clés de votre équilibre alimentaire\n\nDATE ET HEURE DE LA SÉANCE : 04/11/2025 14h00\n\nDURÉE DE LA SÉANCE : 90 minutes\n\nDESCRIPTION : Cette première séance sera pour vous l’occasion de faire un état des lieux de vos habitudes. Elle vous permettra de découvrir ou redécouvrir les bases de l’équilibre alimentaire ainsi que les facteurs qui influencent nos choix en termes d’alimentation.\n\nCliquez sur le lien suivant pour plus d'informations ou vous connecter à la séance : http://www.happyvisio.com/course/3731-cuisine-sante
END:VEVENT
END:VCALENDAR
