BEGIN:VCALENDAR
VERSION:2.0
BEGIN:VEVENT
TZID:Europe/Paris
STATUS:CONFIRMED
DTSTART:20250520T203000
DTEND:20250520T220000
SUMMARY:Séance : Les bons achats pour mon bébé
DESCRIPTION:TITRE DE L’ATELIER : Les bons achats pour mon bébé\n\nTITRE DE LA SÉANCE : Séance : Les bons achats pour mon bébé\n\nDATE ET HEURE DE LA SÉANCE : 20/05/2025 20h30\n\nDURÉE DE LA SÉANCE : 90 minutes\n\nDESCRIPTION : Quels sont les bons produits à acheter pour la santé de mon bébé ? En suivant cet atelier\, vous saurez déchiffrer les étiquettes des produits et acheter ceux qui conviennent le mieux à votre bébé.\n\nCliquez sur le lien suivant pour plus d'informations ou vous connecter à la séance : http://www.happyvisio.com/course/les-bons-achats-pour-mon-bebe-22
X-ALT-DESC;FMTTYPE=text/html:TITRE DE L’ATELIER : Les bons achats pour mon bébé\n\nTITRE DE LA SÉANCE : Séance : Les bons achats pour mon bébé\n\nDATE ET HEURE DE LA SÉANCE : 20/05/2025 20h30\n\nDURÉE DE LA SÉANCE : 90 minutes\n\nDESCRIPTION : Quels sont les bons produits à acheter pour la santé de mon bébé ? En suivant cet atelier\, vous saurez déchiffrer les étiquettes des produits et acheter ceux qui conviennent le mieux à votre bébé.\n\nCliquez sur le lien suivant pour plus d'informations ou vous connecter à la séance : http://www.happyvisio.com/course/les-bons-achats-pour-mon-bebe-22
END:VEVENT
END:VCALENDAR
