BEGIN:VCALENDAR
VERSION:2.0
BEGIN:VEVENT
TZID:Europe/Paris
STATUS:CONFIRMED
DTSTART:20250617T203000
DTEND:20250617T220000
SUMMARY:Séance : La diversification alimentaire
DESCRIPTION:<p><b>Titre de l’atelier</b> : La diversification alimentaire </p>
 <p><b>Titre de la séance</b> : Séance : La diversification alimentaire </p>
 <p><b>Date et heure de la séance</b> : 17/06/2025 20h30</p>
 <p><b>Durée de la séance </b>: 90 minutes</p>
 <b>Description</b> : <p>Comment r&eacute\;ussir l&#39\;&eacute\;tape de la diversification alimentaire en toute s&eacute\;r&eacute\;nit&eacute\; ? Pour que la transition vers de nouvelles textures et saveurs se d&eacute\;roule au mieux\, suivez cet atelier ! Rep&egrave\;res d&#39\;introduction des aliments\, conseils et astuces...Vous aurez toutes les cl&eacute\;s pour accompagner b&eacute\;b&eacute\; dans cette &eacute\;tape de d&eacute\;couvertes et de changements.</p>\n<p><a href="http://www.happyvisio.com/course/la-diversification-alimentaire-45">Cliquez-ici pour obtenir plus d’informations ou vous connecter à la séance</a></p>
X-ALT-DESC;FMTTYPE=text/html:<p><b>Titre de l’atelier</b> : La diversification alimentaire </p>
 <p><b>Titre de la séance</b> : Séance : La diversification alimentaire </p>
 <p><b>Date et heure de la séance</b> : 17/06/2025 20h30</p>
 <p><b>Durée de la séance </b>: 90 minutes</p>
 <b>Description</b> : <p>Comment r&eacute\;ussir l&#39\;&eacute\;tape de la diversification alimentaire en toute s&eacute\;r&eacute\;nit&eacute\; ? Pour que la transition vers de nouvelles textures et saveurs se d&eacute\;roule au mieux\, suivez cet atelier ! Rep&egrave\;res d&#39\;introduction des aliments\, conseils et astuces...Vous aurez toutes les cl&eacute\;s pour accompagner b&eacute\;b&eacute\; dans cette &eacute\;tape de d&eacute\;couvertes et de changements.</p>\n<p><a href="http://www.happyvisio.com/course/la-diversification-alimentaire-45">Cliquez-ici pour obtenir plus d’informations ou vous connecter à la séance</a></p>
END:VEVENT
END:VCALENDAR
