BEGIN:VCALENDAR
VERSION:2.0
BEGIN:VEVENT
TZID:Europe/Paris
STATUS:CONFIRMED
DTSTART:20190924T150000
DTEND:20190924T161500
SUMMARY:Déménagement : les bonnes questions à se poser
DESCRIPTION:TITRE DE LA CONFÉRENCE : Déménagement : les bonnes questions à se poser\n\nDATE ET HEURE DE LA CONFÉRENCE : 24/09/2019 15h00\n\nDURÉE DE LA CONFÉRENCE : 75 minutes\n\nDESCRIPTION : Vous aimeriez changer de logement ? Vous avez un projet de déménagement ? Pour vous ou pour un proche âgé ? Alors prenez le temps de suivre cette conférence au cours de laquelle Gwendoline Cotrez vous aidera à répondre à toutes les bonnes questions qu’il faut vous poser avant de vous lancer. Car les changements de logement\, souhaités ou imposés\, sont des étapes importantes de nos vies qu’il est nécessaire de préparer.Si vous souhaitez d'ores et déjà POSER UNE QUESTION à GWENDOLINE COTREZ et avoir une réponse en séance\, vous pouvez nous l'envoyer à l'adresse email suivante : question@happyvisio.com.\nMOVADOM\, créée en 2012\, est la première entreprise française à proposer un service d’accompagnement au déménagement pour les seniors. Movadom permet aux seniors d’être accompagnés avant\, pendant et après leur déménagement vers un logement plus adapté.\n\nCliquez sur le lien suivant pour plus d'informations ou vous connecter à la conférence : http://www.happyvisio.com/conference/demenagement-les-bonnes-questions-a-se-poser
X-ALT-DESC;FMTTYPE=text/html:TITRE DE LA CONFÉRENCE : Déménagement : les bonnes questions à se poser DATE ET HEURE DE LA CONFÉRENCE : 24/09/2019 15h00 DURÉE DE LA CONFÉRENCE : 75 minutes DESCRIPTION : Vous aimeriez changer de logement ? Vous avez un projet de déménagement ? Pour vous ou pour un proche âgé ? Alors prenez le temps de suivre cette conférence au cours de laquelle Gwendoline Cotrez vous aidera à répondre à toutes les bonnes questions qu’il faut vous poser avant de vous lancer. Car les changements de logement\, souhaités ou imposés\, sont des étapes importantes de nos vies qu’il est nécessaire de préparer.Si vous souhaitez d'ores et déjà POSER UNE QUESTION à GWENDOLINE COTREZ et avoir une réponse en séance\, vous pouvez nous l'envoyer à l'adresse email suivante : question@happyvisio.com.\nMOVADOM\, créée en 2012\, est la première entreprise française à proposer un service d’accompagnement au déménagement pour les seniors. Movadom permet aux seniors d’être accompagnés avant\, pendant et après leur déménagement vers un logement plus adapté.\n\nCliquez sur le lien suivant pour plus d'informations ou vous connecter à la conférence : http://www.happyvisio.com/conference/demenagement-les-bonnes-questions-a-se-poser
END:VEVENT
END:VCALENDAR
