BEGIN:VCALENDAR
VERSION:2.0
BEGIN:VEVENT
TZID:Europe/Paris
STATUS:CONFIRMED
DTSTART:20261210T143000
DTEND:20261210T153000
SUMMARY:Prévenir les chutes, les causes et les conséquences
DESCRIPTION:TITRE DE LA CONFÉRENCE : Prévenir les chutes, les causes et les conséquences\n\nDATE ET HEURE DE LA CONFÉRENCE : 10/12/2026 14h30\n\nDURÉE DE LA CONFÉRENCE : 60 minutes\n\nDESCRIPTION : La prévention des chutes est un enjeu majeur. Chaque année\, on dénombre environ 2 millions de chutes de personnes âgées de plus de 65 ans.\n\nEn plus des conséquences qu'une chute peut avoir sur le plan physique\, elle engendre également un impact psychologique\, social et peut affecter l'autonomie de la personne et potentiellement son projet de vie à domicile. \n\nAfin de prévenir le risque de chute à domicile\, nous vous proposons d'échanger au cours de cet atelier sur :\n•    Les facteurs pouvant provoquer une chute\n•    Les bonnes habitudes à prendre pour éviter de tomber et pour entretenir son autonomie\n•    Les solutions concrètes à mettre en œuvre pour sécuriser son environnement\n\n \n\n \n\nVous recherchez des solutions d'aide près de chez vous ? Appuyez-vous sur Ma Boussole Aidants\, un annuaire en ligne de services géolocalisés. Cliquez ici pour y accéder.\n\nCliquez sur le lien suivant pour plus d'informations ou vous connecter à la conférence : http://www.happyvisio.com/conference/8525-prevenir-les-chutes-les-causes-et-les-consequences
X-ALT-DESC;FMTTYPE=text/html:TITRE DE LA CONFÉRENCE : Prévenir les chutes, les causes et les conséquences DATE ET HEURE DE LA CONFÉRENCE : 10/12/2026 14h30 DURÉE DE LA CONFÉRENCE : 60 minutes DESCRIPTION : La prévention des chutes est un enjeu majeur. Chaque année\, on dénombre environ 2 millions de chutes de personnes âgées de plus de 65 ans.\n\nEn plus des conséquences qu'une chute peut avoir sur le plan physique\, elle engendre également un impact psychologique\, social et peut affecter l'autonomie de la personne et potentiellement son projet de vie à domicile. \n\nAfin de prévenir le risque de chute à domicile\, nous vous proposons d'échanger au cours de cet atelier sur :\n•    Les facteurs pouvant provoquer une chute\n•    Les bonnes habitudes à prendre pour éviter de tomber et pour entretenir son autonomie\n•    Les solutions concrètes à mettre en œuvre pour sécuriser son environnement\n\n \n\n \n\nVous recherchez des solutions d'aide près de chez vous ? Appuyez-vous sur Ma Boussole Aidants\, un annuaire en ligne de services géolocalisés. Cliquez ici pour y accéder.\n\nCliquez sur le lien suivant pour plus d'informations ou vous connecter à la conférence : http://www.happyvisio.com/conference/8525-prevenir-les-chutes-les-causes-et-les-consequences
END:VEVENT
END:VCALENDAR
