BEGIN:VCALENDAR
VERSION:2.0
BEGIN:VEVENT
TZID:Europe/Paris
STATUS:CONFIRMED
DTSTART:20260617T100000
DTEND:20260617T110000
SUMMARY:Test sophie
DESCRIPTION:TITRE DE LA CONFÉRENCE : Test sophie\n\nDATE ET HEURE DE LA CONFÉRENCE : 17/06/2026 10h00\n\nDURÉE DE LA CONFÉRENCE : 60 minutes\n\nDESCRIPTION : Ce webinaire bla bla bla\n\nCliquez sur le lien suivant pour plus d'informations ou vous connecter à la conférence : http://www.happyvisio.com/conference/8524-test-sophie
X-ALT-DESC;FMTTYPE=text/html:TITRE DE LA CONFÉRENCE : Test sophie DATE ET HEURE DE LA CONFÉRENCE : 17/06/2026 10h00 DURÉE DE LA CONFÉRENCE : 60 minutes DESCRIPTION : Ce webinaire bla bla bla\n\nCliquez sur le lien suivant pour plus d'informations ou vous connecter à la conférence : http://www.happyvisio.com/conference/8524-test-sophie
END:VEVENT
END:VCALENDAR
