BEGIN:VCALENDAR
VERSION:2.0
BEGIN:VEVENT
TZID:Europe/Paris
STATUS:CONFIRMED
DTSTART:20260716T143000
DTEND:20260716T153000
SUMMARY:Gustave Caillebotte (1848-1894), Peintre- collectionneur- mécène... et tellement plus encore
DESCRIPTION:TITRE DE LA CONFÉRENCE : Gustave Caillebotte (1848-1894), Peintre- collectionneur- mécène... et tellement plus encore\n\nDATE ET HEURE DE LA CONFÉRENCE : 16/07/2026 14h30\n\nDURÉE DE LA CONFÉRENCE : 60 minutes\n\nDESCRIPTION : Gustave Caillebotte\, né en 1848 et mort en 1894 est un peintre français collectionneur émérite et mécène de ses contemporains impressionnistes.\n\nPeintre méconnu\, curieux\, passionné et humaniste\, il marqua d’une empreinte indélébile son siècle. Aujourd’hui encore\, bons nombres de ses inventions sont utilisées et appliquées dans des domaines très variés. Il fut un des pourvoyeurs de peintures impressionnistes de nos musées français.\n\nAussi surprenant qu’attachant Caillebotte est un peintre à découvrir ou redécouvrir qui ne vous laissera pas indifférent.\n\nCliquez sur le lien suivant pour plus d'informations ou vous connecter à la conférence : http://www.happyvisio.com/conference/8523-gustave-caillebotte-1848-1894-peintre-collectionneur-mecene-et-tellement-plus-encore
X-ALT-DESC;FMTTYPE=text/html:TITRE DE LA CONFÉRENCE : Gustave Caillebotte (1848-1894), Peintre- collectionneur- mécène... et tellement plus encore DATE ET HEURE DE LA CONFÉRENCE : 16/07/2026 14h30 DURÉE DE LA CONFÉRENCE : 60 minutes DESCRIPTION : Gustave Caillebotte\, né en 1848 et mort en 1894 est un peintre français collectionneur émérite et mécène de ses contemporains impressionnistes.\n\nPeintre méconnu\, curieux\, passionné et humaniste\, il marqua d’une empreinte indélébile son siècle. Aujourd’hui encore\, bons nombres de ses inventions sont utilisées et appliquées dans des domaines très variés. Il fut un des pourvoyeurs de peintures impressionnistes de nos musées français.\n\nAussi surprenant qu’attachant Caillebotte est un peintre à découvrir ou redécouvrir qui ne vous laissera pas indifférent.\n\nCliquez sur le lien suivant pour plus d'informations ou vous connecter à la conférence : http://www.happyvisio.com/conference/8523-gustave-caillebotte-1848-1894-peintre-collectionneur-mecene-et-tellement-plus-encore
END:VEVENT
END:VCALENDAR
