BEGIN:VCALENDAR
VERSION:2.0
BEGIN:VEVENT
TZID:Europe/Paris
STATUS:CONFIRMED
DTSTART:20260604T140000
DTEND:20260604T153000
SUMMARY:Bouger aujourd’hui pour rester autonome demain
DESCRIPTION:TITRE DE LA CONFÉRENCE : Bouger aujourd’hui pour rester autonome demain\n\nDATE ET HEURE DE LA CONFÉRENCE : 04/06/2026 14h00\n\nDURÉE DE LA CONFÉRENCE : 90 minutes\n\nDESCRIPTION : Nos qualités physiques diminuent avec le vieillissement. Nous pouvons toutefois agir et limiter ses effets. Quelles qualités physiques solliciter principalement ? Pourquoi et comment ? Des exemples concrets d’exercices à réaliser. \n\n \n\nCliquez sur le lien suivant pour plus d'informations ou vous connecter à la conférence : http://www.happyvisio.com/conference/8321-bouger-aujourd-hui-pour-rester-autonome-demain
X-ALT-DESC;FMTTYPE=text/html:TITRE DE LA CONFÉRENCE : Bouger aujourd’hui pour rester autonome demain DATE ET HEURE DE LA CONFÉRENCE : 04/06/2026 14h00 DURÉE DE LA CONFÉRENCE : 90 minutes DESCRIPTION : Nos qualités physiques diminuent avec le vieillissement. Nous pouvons toutefois agir et limiter ses effets. Quelles qualités physiques solliciter principalement ? Pourquoi et comment ? Des exemples concrets d’exercices à réaliser. \n\n \n\nCliquez sur le lien suivant pour plus d'informations ou vous connecter à la conférence : http://www.happyvisio.com/conference/8321-bouger-aujourd-hui-pour-rester-autonome-demain
END:VEVENT
END:VCALENDAR
