BEGIN:VCALENDAR
VERSION:2.0
BEGIN:VEVENT
TZID:Europe/Paris
STATUS:CONFIRMED
DTSTART:20260708T143000
DTEND:20260708T153000
SUMMARY:Les tubes de la musique classique
DESCRIPTION:<p><b>Titre de la conférence</b> : Les tubes de la musique classique </p>
 <p><b>Date et heure de la conférence</b> : 08/07/2026 14h30</p>
 <p><b>Durée de la conférence </b>: 60 minutes</p>
 <b>Description</b> : <p>En ce d&eacute\;but d&#39\;&eacute\;t&eacute\;\, je voulais vous proposer un programme l&eacute\;ger\, amusant et pour cela\, nous aborderons les tubes de la musique...pour la 2&egrave\; fois ensemble ! Bien &eacute\;videmment\, le programme sera diff&eacute\;rent de la fois pr&eacute\;c&eacute\;dente.</p>\n\n<p>Les tubes\, ce sont ces morceaux connus de tous\, parce qu&#39\;ils ont &eacute\;t&eacute\; utilis&eacute\;s au cin&eacute\;ma ou encore dans des publicit&eacute\;s...mais...quant &agrave\; savoir quel est le compositeur\, le nom de l&#39\;&oelig\;uvre ou encore l&#39\;&eacute\;poque\, c&#39\;est d&eacute\;j&agrave\; moins simple.</p>\n\n<p>Le but de cette s&eacute\;ance sera\, au-del&agrave\; de se r&eacute\;galer de ces morceaux connus\, de mettre un contexte &agrave\; toutes ces &oelig\;uvres ! Un moment riche en perspective !&nbsp\;</p>\n<p><a href="http://www.happyvisio.com/conference/7968-les-tubes-de-la-musique-classique">Cliquez-ici pour obtenir plus d’informations ou vous connecter à la conférence</a></p>
X-ALT-DESC;FMTTYPE=text/html:<p><b>Titre de la conférence</b> : Les tubes de la musique classique </p>
 <p><b>Date et heure de la conférence</b> : 08/07/2026 14h30</p>
 <p><b>Durée de la conférence </b>: 60 minutes</p>
 <b>Description</b> : <p>En ce d&eacute\;but d&#39\;&eacute\;t&eacute\;\, je voulais vous proposer un programme l&eacute\;ger\, amusant et pour cela\, nous aborderons les tubes de la musique...pour la 2&egrave\; fois ensemble ! Bien &eacute\;videmment\, le programme sera diff&eacute\;rent de la fois pr&eacute\;c&eacute\;dente.</p>\n\n<p>Les tubes\, ce sont ces morceaux connus de tous\, parce qu&#39\;ils ont &eacute\;t&eacute\; utilis&eacute\;s au cin&eacute\;ma ou encore dans des publicit&eacute\;s...mais...quant &agrave\; savoir quel est le compositeur\, le nom de l&#39\;&oelig\;uvre ou encore l&#39\;&eacute\;poque\, c&#39\;est d&eacute\;j&agrave\; moins simple.</p>\n\n<p>Le but de cette s&eacute\;ance sera\, au-del&agrave\; de se r&eacute\;galer de ces morceaux connus\, de mettre un contexte &agrave\; toutes ces &oelig\;uvres ! Un moment riche en perspective !&nbsp\;</p>\n<p><a href="http://www.happyvisio.com/conference/7968-les-tubes-de-la-musique-classique">Cliquez-ici pour obtenir plus d’informations ou vous connecter à la conférence</a></p>
END:VEVENT
END:VCALENDAR
