BEGIN:VCALENDAR
VERSION:2.0
BEGIN:VEVENT
TZID:Europe/Paris
STATUS:CONFIRMED
DTSTART:20260610T143000
DTEND:20260610T153000
SUMMARY:Le poème symphonique
DESCRIPTION:<p><b>Titre de la conférence</b> : Le poème symphonique </p>
 <p><b>Date et heure de la conférence</b> : 10/06/2026 14h30</p>
 <p><b>Durée de la conférence </b>: 60 minutes</p>
 <b>Description</b> : <p>Je vous invite à découvrir ce genre musical pour orchestre qu\'est le poème symphonique\, terme apparu au milieu du 19ᵉ siècle grâce à Franz Liszt.</p>\n\n<p>Des poèmes symphoniques très célèbres comme La Moldau ou encore L\'Apprenti Sorcier à des œuvres qui sont beaucoup moins connues.</p>\n\n<p>Je vous propose un beau panorama de ce genre dont je vous dévoilerai les caractéristiques et les grands représentants\, le tout comme toujours illustré de nombreuses écoutes.&nbsp\;&nbsp\;</p>\n<p><a href="http://www.happyvisio.com/conference/7967-le-poeme-symphonique">Cliquez-ici pour obtenir plus d’informations ou vous connecter à la conférence</a></p>
X-ALT-DESC;FMTTYPE=text/html:<p><b>Titre de la conférence</b> : Le poème symphonique </p>
 <p><b>Date et heure de la conférence</b> : 10/06/2026 14h30</p>
 <p><b>Durée de la conférence </b>: 60 minutes</p>
 <b>Description</b> : <p>Je vous invite à découvrir ce genre musical pour orchestre qu\'est le poème symphonique\, terme apparu au milieu du 19ᵉ siècle grâce à Franz Liszt.</p>\n\n<p>Des poèmes symphoniques très célèbres comme La Moldau ou encore L\'Apprenti Sorcier à des œuvres qui sont beaucoup moins connues.</p>\n\n<p>Je vous propose un beau panorama de ce genre dont je vous dévoilerai les caractéristiques et les grands représentants\, le tout comme toujours illustré de nombreuses écoutes.&nbsp\;&nbsp\;</p>\n<p><a href="http://www.happyvisio.com/conference/7967-le-poeme-symphonique">Cliquez-ici pour obtenir plus d’informations ou vous connecter à la conférence</a></p>
END:VEVENT
END:VCALENDAR
