BEGIN:VCALENDAR
VERSION:2.0
BEGIN:VEVENT
TZID:Europe/Paris
STATUS:CONFIRMED
DTSTART:20260602T143000
DTEND:20260602T153000
SUMMARY:Comment bien s'hydrater quotidiennement en période estivale ?
DESCRIPTION:<p><b>Titre de la conférence</b> : Comment bien s'hydrater quotidiennement en période estivale ? </p>
 <p><b>Date et heure de la conférence</b> : 02/06/2026 14h30</p>
 <p><b>Durée de la conférence </b>: 60 minutes</p>
 <b>Description</b> : <p>On le sait\, l\'hydratation est un point de vigilance essentiel dès lors que les températures augmentent. D\'autant qu\'avec l\'âge\, la sensation de soif peut s\'amoindrir.</p>\n\n<p>Mais au-delà de la quantité recommandée par jour\, comment choisir l\'eau la plus adaptée ?</p>\n\n<p>Qu\'en est-il de l\'eau du robinet ?</p>\n\n<p>Cette conférence&nbsp\;vous propose de faire le point sur ces sujets. Il vous livrera également des clés pour varier les boissons tout au long de l\'été.&nbsp\;</p>\n<p><a href="http://www.happyvisio.com/conference/7965-comment-bien-s-hydrater-quotidiennement-en-periode-estivale">Cliquez-ici pour obtenir plus d’informations ou vous connecter à la conférence</a></p>
X-ALT-DESC;FMTTYPE=text/html:<p><b>Titre de la conférence</b> : Comment bien s'hydrater quotidiennement en période estivale ? </p>
 <p><b>Date et heure de la conférence</b> : 02/06/2026 14h30</p>
 <p><b>Durée de la conférence </b>: 60 minutes</p>
 <b>Description</b> : <p>On le sait\, l\'hydratation est un point de vigilance essentiel dès lors que les températures augmentent. D\'autant qu\'avec l\'âge\, la sensation de soif peut s\'amoindrir.</p>\n\n<p>Mais au-delà de la quantité recommandée par jour\, comment choisir l\'eau la plus adaptée ?</p>\n\n<p>Qu\'en est-il de l\'eau du robinet ?</p>\n\n<p>Cette conférence&nbsp\;vous propose de faire le point sur ces sujets. Il vous livrera également des clés pour varier les boissons tout au long de l\'été.&nbsp\;</p>\n<p><a href="http://www.happyvisio.com/conference/7965-comment-bien-s-hydrater-quotidiennement-en-periode-estivale">Cliquez-ici pour obtenir plus d’informations ou vous connecter à la conférence</a></p>
END:VEVENT
END:VCALENDAR
