BEGIN:VCALENDAR
VERSION:2.0
BEGIN:VEVENT
TZID:Europe/Paris
STATUS:CONFIRMED
DTSTART:20260421T143000
DTEND:20260421T153000
SUMMARY:Les Antioxydants, secrets de longévité
DESCRIPTION:TITRE DE LA CONFÉRENCE : Les Antioxydants, secrets de longévité\n\nDATE ET HEURE DE LA CONFÉRENCE : 21/04/2026 14h30\n\nDURÉE DE LA CONFÉRENCE : 60 minutes\n\nDESCRIPTION : Le vieillissement cellulaire\, on le sait\, est un processus inéluctable.\n\nPar notre hygiène de vie\, nous pouvons néanmoins le ralentir en apportant à l’organisme les armes pour se régénérer au mieux. Et cela se passe avant tout dans l’assiette.\n\nFocus aujourd'hui sur les antioxydants\, ces molécules anti-vieillissement dont il est essentiel de connaître les sources pour les inviter quotidiennement au repas. \n\nCliquez sur le lien suivant pour plus d'informations ou vous connecter à la conférence : http://www.happyvisio.com/conference/7960-les-antioxydants-secrets-de-longevite
X-ALT-DESC;FMTTYPE=text/html:TITRE DE LA CONFÉRENCE : Les Antioxydants, secrets de longévité DATE ET HEURE DE LA CONFÉRENCE : 21/04/2026 14h30 DURÉE DE LA CONFÉRENCE : 60 minutes DESCRIPTION : Le vieillissement cellulaire\, on le sait\, est un processus inéluctable.\n\nPar notre hygiène de vie\, nous pouvons néanmoins le ralentir en apportant à l’organisme les armes pour se régénérer au mieux. Et cela se passe avant tout dans l’assiette.\n\nFocus aujourd'hui sur les antioxydants\, ces molécules anti-vieillissement dont il est essentiel de connaître les sources pour les inviter quotidiennement au repas. \n\nCliquez sur le lien suivant pour plus d'informations ou vous connecter à la conférence : http://www.happyvisio.com/conference/7960-les-antioxydants-secrets-de-longevite
END:VEVENT
END:VCALENDAR
