BEGIN:VCALENDAR
VERSION:2.0
BEGIN:VEVENT
TZID:Europe/Paris
STATUS:CONFIRMED
DTSTART:20260422T143000
DTEND:20260422T153000
SUMMARY:Redécouvrir Notre Dame de Paris après sa restauration
DESCRIPTION:<p><b>Titre de la conférence</b> : Redécouvrir Notre Dame de Paris après sa restauration </p>
 <p><b>Date et heure de la conférence</b> : 22/04/2026 14h30</p>
 <p><b>Durée de la conférence </b>: 60 minutes</p>
 <b>Description</b> : <p>Le 15 avril 2019 vers 19 heures\, la cathédrale Notre-Dame est en feu\, l’incendie soulève un grand trouble et engendre une grande émotion\, en France comme à l’étranger.</p>\n\n<p>Un mouvement remarquable de solidarité se manifeste à l’échelle mondiale\, et la cathédrale restaurée ouvre ses portes à nouveau le 7 décembre 2024.</p>\n\n<p>Sa restauration et sa mise en valeur sont exemplaires\, à nous de la redécouvrir et d’en contempler ses richesses.</p>\n<p><a href="http://www.happyvisio.com/conference/7945-redecouvrir-notre-dame-de-paris-apres-sa-restauration">Cliquez-ici pour obtenir plus d’informations ou vous connecter à la conférence</a></p>
X-ALT-DESC;FMTTYPE=text/html:<p><b>Titre de la conférence</b> : Redécouvrir Notre Dame de Paris après sa restauration </p>
 <p><b>Date et heure de la conférence</b> : 22/04/2026 14h30</p>
 <p><b>Durée de la conférence </b>: 60 minutes</p>
 <b>Description</b> : <p>Le 15 avril 2019 vers 19 heures\, la cathédrale Notre-Dame est en feu\, l’incendie soulève un grand trouble et engendre une grande émotion\, en France comme à l’étranger.</p>\n\n<p>Un mouvement remarquable de solidarité se manifeste à l’échelle mondiale\, et la cathédrale restaurée ouvre ses portes à nouveau le 7 décembre 2024.</p>\n\n<p>Sa restauration et sa mise en valeur sont exemplaires\, à nous de la redécouvrir et d’en contempler ses richesses.</p>\n<p><a href="http://www.happyvisio.com/conference/7945-redecouvrir-notre-dame-de-paris-apres-sa-restauration">Cliquez-ici pour obtenir plus d’informations ou vous connecter à la conférence</a></p>
END:VEVENT
END:VCALENDAR
