BEGIN:VCALENDAR
VERSION:2.0
BEGIN:VEVENT
TZID:Europe/Paris
STATUS:CONFIRMED
DTSTART:20260617T143000
DTEND:20260617T153000
SUMMARY:La Pyramide, un symbole retrouvé dans le monde entier
DESCRIPTION:TITRE DE LA CONFÉRENCE : La Pyramide, un symbole retrouvé dans le monde entier\n\nDATE ET HEURE DE LA CONFÉRENCE : 17/06/2026 14h30\n\nDURÉE DE LA CONFÉRENCE : 60 minutes\n\nDESCRIPTION : Oui\, on trouve des pyramides sur presque tous les continents !\n\nSi l'Égypte est la première destination qui vient à l'esprit\, elle n'est pourtant pas le pays qui en possède le plus\, ni celui qui abrite la plus volumineuse. Ce qui les rapproche\, c'est d’abord cette forme géométrique si facilement identifiable.\n\nNous allons faire à peu près un tour du monde de ces structures créées par l’homme même si c’est quelquefois discuté. \n\nL’Afrique en est le berceau historique. L’Égypte à qui on pense toujours en premier détient les plus monumentales dont celles de Gizeh (l’une des sept merveilles du monde antique)\, le Soudan les plus nombreuses (255).\n\nEn Amérique du Sud\, de véritables géantes ont poussé dans la jungle\, essentiellement au Mexique et au Guatemala où s’est développée la civilisation Maya.\n\nQue ce soit en Indes\, dans les pays d’Asie de Sud Est\, en Chine et en Indonésie\, ce sont les temples bouddhistes qui prennent des allures pyramidales dans la partie orientale du monde.\n\nEnfin\, des pyramides naturelles ont aussi été objets de vénération\nPeut-on expliquer l’universalité par la forme géométrique parfaite alors utilisée par des civilisations qui ne se sont jamais rencontrées ?\n\nToujours lieux de spiritualité et de mystère\, lieux de transition entre la Terre et le ciel\, lieux de sépulture\, transition entre la Terre et l’Inframonde. Voilà pourquoi\, la forme pyramidale devient symbole dans le monde entier.\n\nCliquez sur le lien suivant pour plus d'informations ou vous connecter à la conférence : http://www.happyvisio.com/conference/7941-la-pyramide-un-symbole-retrouve-dans-le-monde-entier
X-ALT-DESC;FMTTYPE=text/html:TITRE DE LA CONFÉRENCE : La Pyramide, un symbole retrouvé dans le monde entier DATE ET HEURE DE LA CONFÉRENCE : 17/06/2026 14h30 DURÉE DE LA CONFÉRENCE : 60 minutes DESCRIPTION : Oui\, on trouve des pyramides sur presque tous les continents !\n\nSi l'Égypte est la première destination qui vient à l'esprit\, elle n'est pourtant pas le pays qui en possède le plus\, ni celui qui abrite la plus volumineuse. Ce qui les rapproche\, c'est d’abord cette forme géométrique si facilement identifiable.\n\nNous allons faire à peu près un tour du monde de ces structures créées par l’homme même si c’est quelquefois discuté. \n\nL’Afrique en est le berceau historique. L’Égypte à qui on pense toujours en premier détient les plus monumentales dont celles de Gizeh (l’une des sept merveilles du monde antique)\, le Soudan les plus nombreuses (255).\n\nEn Amérique du Sud\, de véritables géantes ont poussé dans la jungle\, essentiellement au Mexique et au Guatemala où s’est développée la civilisation Maya.\n\nQue ce soit en Indes\, dans les pays d’Asie de Sud Est\, en Chine et en Indonésie\, ce sont les temples bouddhistes qui prennent des allures pyramidales dans la partie orientale du monde.\n\nEnfin\, des pyramides naturelles ont aussi été objets de vénération\nPeut-on expliquer l’universalité par la forme géométrique parfaite alors utilisée par des civilisations qui ne se sont jamais rencontrées ?\n\nToujours lieux de spiritualité et de mystère\, lieux de transition entre la Terre et le ciel\, lieux de sépulture\, transition entre la Terre et l’Inframonde. Voilà pourquoi\, la forme pyramidale devient symbole dans le monde entier.\n\nCliquez sur le lien suivant pour plus d'informations ou vous connecter à la conférence : http://www.happyvisio.com/conference/7941-la-pyramide-un-symbole-retrouve-dans-le-monde-entier
END:VEVENT
END:VCALENDAR
