BEGIN:VCALENDAR
VERSION:2.0
BEGIN:VEVENT
TZID:Europe/Paris
STATUS:CONFIRMED
DTSTART:20260520T143000
DTEND:20260520T153000
SUMMARY:Que font nos rois sur les places publiques ?
DESCRIPTION:<p><b>Titre de la conférence</b> : Que font nos rois sur les places publiques ? </p>
 <p><b>Date et heure de la conférence</b> : 20/05/2026 14h30</p>
 <p><b>Durée de la conférence </b>: 60 minutes</p>
 <b>Description</b> : <p>À Paris\, à Lyon\, à Montpellier des statues équestres de Louis XIV occupent des emplacements de choix et participent à la monumentalisation de ces villes. Cela devrait être objet d’étonnement\, car nous sommes en « République ».&nbsp\; En fait\, ces représentations royales sont le résultat d’histoires complexes liées à la grande Histoire.&nbsp\;&nbsp\;</p>\n\n<p>De tout temps\, les monarques ont éprouvé le besoin de propager leur image pour consolider leur pouvoir sur leur territoire. Leur représentation est un instrument de propagande. Avant l’ère de la photographie et de la télévision\, le portrait frappé sur les monnaies qui circulent est un premier moyen de faire connaître le souverain. La statue sur la place publique va être utilisée à partir d’Henri IV et atteindre un déploiement extraordinaire avec Louis XIV.</p>\n\n<p>Mais la Révolution va abattre tous ces monuments à la gloire d’une monarchie haïe. Quelques décennies après\, les immigrés et les frères du roi décapité rentrent n’ayant « rien oublié ». Ils « restaurent » y compris les statues abattues. C’est une fièvre de commandes de statues royales.</p>\n\n<p>D’autres révolutions passeront\, mais plus de sagesse ou plus d’indifférence à ces représentations les laisseront au regard des passants jusqu’à aujourd’hui.</p>\n<p><a href="http://www.happyvisio.com/conference/7908-que-font-nos-rois-sur-les-places-publiques">Cliquez-ici pour obtenir plus d’informations ou vous connecter à la conférence</a></p>
X-ALT-DESC;FMTTYPE=text/html:<p><b>Titre de la conférence</b> : Que font nos rois sur les places publiques ? </p>
 <p><b>Date et heure de la conférence</b> : 20/05/2026 14h30</p>
 <p><b>Durée de la conférence </b>: 60 minutes</p>
 <b>Description</b> : <p>À Paris\, à Lyon\, à Montpellier des statues équestres de Louis XIV occupent des emplacements de choix et participent à la monumentalisation de ces villes. Cela devrait être objet d’étonnement\, car nous sommes en « République ».&nbsp\; En fait\, ces représentations royales sont le résultat d’histoires complexes liées à la grande Histoire.&nbsp\;&nbsp\;</p>\n\n<p>De tout temps\, les monarques ont éprouvé le besoin de propager leur image pour consolider leur pouvoir sur leur territoire. Leur représentation est un instrument de propagande. Avant l’ère de la photographie et de la télévision\, le portrait frappé sur les monnaies qui circulent est un premier moyen de faire connaître le souverain. La statue sur la place publique va être utilisée à partir d’Henri IV et atteindre un déploiement extraordinaire avec Louis XIV.</p>\n\n<p>Mais la Révolution va abattre tous ces monuments à la gloire d’une monarchie haïe. Quelques décennies après\, les immigrés et les frères du roi décapité rentrent n’ayant « rien oublié ». Ils « restaurent » y compris les statues abattues. C’est une fièvre de commandes de statues royales.</p>\n\n<p>D’autres révolutions passeront\, mais plus de sagesse ou plus d’indifférence à ces représentations les laisseront au regard des passants jusqu’à aujourd’hui.</p>\n<p><a href="http://www.happyvisio.com/conference/7908-que-font-nos-rois-sur-les-places-publiques">Cliquez-ici pour obtenir plus d’informations ou vous connecter à la conférence</a></p>
END:VEVENT
END:VCALENDAR
