BEGIN:VCALENDAR
VERSION:2.0
BEGIN:VEVENT
TZID:Europe/Paris
STATUS:CONFIRMED
DTSTART:20260915T143000
DTEND:20260915T153000
SUMMARY:Prévenir les infections nosocomiales : un défi collectif
DESCRIPTION:TITRE DE LA CONFÉRENCE : Prévenir les infections nosocomiales : un défi collectif\n\nDATE ET HEURE DE LA CONFÉRENCE : 15/09/2026 14h30\n\nDURÉE DE LA CONFÉRENCE : 60 minutes\n\nDESCRIPTION : Savez-vous ce que sont les infections nosocomiales et comment elles peuvent toucher patients et visiteurs à l’hôpital ?\n\nDans ce webinaire\, Docteure Dorothée Boisseau\, médecin infectiologue\, vous expliquera simplement comment ces infections apparaissent\, pourquoi elles restent un défi\, et surtout comment vous pouvez agir pour vous protéger et protéger vos proches.\n\nVous découvrirez aussi les grandes étapes de l’histoire de la prévention\, les chiffres actuels et vos droits en cas d’incident médical.\n\nCliquez sur le lien suivant pour plus d'informations ou vous connecter à la conférence : http://www.happyvisio.com/conference/7780-prevenir-les-infections-nosocomiales-un-defi-collectif
X-ALT-DESC;FMTTYPE=text/html:TITRE DE LA CONFÉRENCE : Prévenir les infections nosocomiales : un défi collectif DATE ET HEURE DE LA CONFÉRENCE : 15/09/2026 14h30 DURÉE DE LA CONFÉRENCE : 60 minutes DESCRIPTION : Savez-vous ce que sont les infections nosocomiales et comment elles peuvent toucher patients et visiteurs à l’hôpital ?\n\nDans ce webinaire\, Docteure Dorothée Boisseau\, médecin infectiologue\, vous expliquera simplement comment ces infections apparaissent\, pourquoi elles restent un défi\, et surtout comment vous pouvez agir pour vous protéger et protéger vos proches.\n\nVous découvrirez aussi les grandes étapes de l’histoire de la prévention\, les chiffres actuels et vos droits en cas d’incident médical.\n\nCliquez sur le lien suivant pour plus d'informations ou vous connecter à la conférence : http://www.happyvisio.com/conference/7780-prevenir-les-infections-nosocomiales-un-defi-collectif
END:VEVENT
END:VCALENDAR
