BEGIN:VCALENDAR
VERSION:2.0
BEGIN:VEVENT
TZID:Europe/Paris
STATUS:CONFIRMED
DTSTART:20260511T133000
DTEND:20260511T143000
SUMMARY:Les moustiques : petits insectes, grands enjeux pour la santé
DESCRIPTION:<p><b>Titre de la conférence</b> : Les moustiques : petits insectes, grands enjeux pour la santé </p>
 <p><b>Date et heure de la conférence</b> : 11/05/2026 13h30</p>
 <p><b>Durée de la conférence </b>: 60 minutes</p>
 <b>Description</b> : <p>Ils nous piquent chaque &eacute\;t&eacute\;\, mais tous les moustiques ne se ressemblent pas ! Le moustique commun\, actif surtout la nuit\, et le moustique tigre\, pr&eacute\;sent d&eacute\;sormais dans la plupart des r&eacute\;gions fran&ccedil\;aises\, n&rsquo\;ont ni les m&ecirc\;mes habitudes ni les m&ecirc\;mes risques pour la sant&eacute\;.</p>\n\n<p>Docteure Doroth&eacute\;e Boisseau\, m&eacute\;decin infectiologue\, vous expliquera leurs diff&eacute\;rences\, les maladies qu&rsquo\;ils peuvent transmettre et les bons gestes pour limiter leur prolif&eacute\;ration et s&rsquo\;en prot&eacute\;ger efficacement.</p>\n<p><a href="http://www.happyvisio.com/conference/7771-les-moustiques-petits-insectes-grands-enjeux-pour-la-sante">Cliquez-ici pour obtenir plus d’informations ou vous connecter à la conférence</a></p>
X-ALT-DESC;FMTTYPE=text/html:<p><b>Titre de la conférence</b> : Les moustiques : petits insectes, grands enjeux pour la santé </p>
 <p><b>Date et heure de la conférence</b> : 11/05/2026 13h30</p>
 <p><b>Durée de la conférence </b>: 60 minutes</p>
 <b>Description</b> : <p>Ils nous piquent chaque &eacute\;t&eacute\;\, mais tous les moustiques ne se ressemblent pas ! Le moustique commun\, actif surtout la nuit\, et le moustique tigre\, pr&eacute\;sent d&eacute\;sormais dans la plupart des r&eacute\;gions fran&ccedil\;aises\, n&rsquo\;ont ni les m&ecirc\;mes habitudes ni les m&ecirc\;mes risques pour la sant&eacute\;.</p>\n\n<p>Docteure Doroth&eacute\;e Boisseau\, m&eacute\;decin infectiologue\, vous expliquera leurs diff&eacute\;rences\, les maladies qu&rsquo\;ils peuvent transmettre et les bons gestes pour limiter leur prolif&eacute\;ration et s&rsquo\;en prot&eacute\;ger efficacement.</p>\n<p><a href="http://www.happyvisio.com/conference/7771-les-moustiques-petits-insectes-grands-enjeux-pour-la-sante">Cliquez-ici pour obtenir plus d’informations ou vous connecter à la conférence</a></p>
END:VEVENT
END:VCALENDAR
