BEGIN:VCALENDAR
VERSION:2.0
BEGIN:VEVENT
TZID:Europe/Paris
STATUS:CONFIRMED
DTSTART:20251010T100000
DTEND:20251010T104500
SUMMARY:Happy Shiatsu - 10 octobre
DESCRIPTION:<p><b>Titre de la conférence</b> : Happy Shiatsu - 10 octobre </p>
 <p><b>Date et heure de la conférence</b> : 10/10/2025 10h00</p>
 <p><b>Durée de la conférence </b>: 45 minutes</p>
 <b>Description</b> : <p>Le shiatsu est un art de sant&eacute\; japonais. Le mot vient des Kanjis 指 shi en japonais doigts et 圧 atsu c&#39\;est &agrave\; dire pression.<br />\n<br />\nLe shiatsu est ainsi le massage traditionnel japonais &agrave\; base de pressions digitales.<br />\nIl est une th&eacute\;rapie manuelle japonaise inspir&eacute\;e de l&#39\;acupuncture chinoise\, de la chiropractie et du anma (massage traditionnel ancien).<br />\n<br />\nIl est parfois traduit par digitoponcture ou digitopression mais cela ne regroupe qu&#39\;une partie du shiatsu\, celle du traitement des points cutan&eacute\;s. Certains le nomment aussi de mani&egrave\;re inappropri&eacute\;e acupression dont la racine latine acu se rapporte &agrave\; aiguille.</p>\n\n<p><br />\nLa pression digitale stimule sous forme d&#39\;excitation ou de dispersion des points &eacute\;nerg&eacute\;tiques sur tout le corps \; l&#39\;acupuncture se sert d&#39\;aiguilles. Le shiatsu consiste en la synth&egrave\;se de deux techniques : traitement sur les zones corporelles (massage) et traitement de points cutan&eacute\;s (digitopuncture).<br />\nIl s&#39\;appuie sur les principes de la physiologie humaine et de l&#39\;&eacute\;nerg&eacute\;tique &agrave\; travers les points d&#39\;acupuncture mais au lieu d&#39\;user d&#39\;aiguilles\, le praticien shiatsu utilise notamment ses pouces.<br />\n<br />\nLe shiatsu a pour but d&#39\;harmoniser et de faire circuler l&#39\;&eacute\;nergie ainsi que les liquides organiques de l&#39\;organisme.<br />\nLe shiatsu concerne aussi les biens portants dont il d&eacute\;veloppe la vitalit&eacute\; et l&#39\;&eacute\;nergie tant physique que psychique dans de nombreux cas de fatigue ou de stress.<br />\nLe shiatsu se pratique en bin&ocirc\;me. Le self-shiatsu ou auto-shiatsu se pratique seul.</p>\n<p><a href="http://www.happyvisio.com/conference/7730-happy-shiatsu-10-octobre">Cliquez-ici pour obtenir plus d’informations ou vous connecter à la conférence</a></p>
X-ALT-DESC;FMTTYPE=text/html:<p><b>Titre de la conférence</b> : Happy Shiatsu - 10 octobre </p>
 <p><b>Date et heure de la conférence</b> : 10/10/2025 10h00</p>
 <p><b>Durée de la conférence </b>: 45 minutes</p>
 <b>Description</b> : <p>Le shiatsu est un art de sant&eacute\; japonais. Le mot vient des Kanjis 指 shi en japonais doigts et 圧 atsu c&#39\;est &agrave\; dire pression.<br />\n<br />\nLe shiatsu est ainsi le massage traditionnel japonais &agrave\; base de pressions digitales.<br />\nIl est une th&eacute\;rapie manuelle japonaise inspir&eacute\;e de l&#39\;acupuncture chinoise\, de la chiropractie et du anma (massage traditionnel ancien).<br />\n<br />\nIl est parfois traduit par digitoponcture ou digitopression mais cela ne regroupe qu&#39\;une partie du shiatsu\, celle du traitement des points cutan&eacute\;s. Certains le nomment aussi de mani&egrave\;re inappropri&eacute\;e acupression dont la racine latine acu se rapporte &agrave\; aiguille.</p>\n\n<p><br />\nLa pression digitale stimule sous forme d&#39\;excitation ou de dispersion des points &eacute\;nerg&eacute\;tiques sur tout le corps \; l&#39\;acupuncture se sert d&#39\;aiguilles. Le shiatsu consiste en la synth&egrave\;se de deux techniques : traitement sur les zones corporelles (massage) et traitement de points cutan&eacute\;s (digitopuncture).<br />\nIl s&#39\;appuie sur les principes de la physiologie humaine et de l&#39\;&eacute\;nerg&eacute\;tique &agrave\; travers les points d&#39\;acupuncture mais au lieu d&#39\;user d&#39\;aiguilles\, le praticien shiatsu utilise notamment ses pouces.<br />\n<br />\nLe shiatsu a pour but d&#39\;harmoniser et de faire circuler l&#39\;&eacute\;nergie ainsi que les liquides organiques de l&#39\;organisme.<br />\nLe shiatsu concerne aussi les biens portants dont il d&eacute\;veloppe la vitalit&eacute\; et l&#39\;&eacute\;nergie tant physique que psychique dans de nombreux cas de fatigue ou de stress.<br />\nLe shiatsu se pratique en bin&ocirc\;me. Le self-shiatsu ou auto-shiatsu se pratique seul.</p>\n<p><a href="http://www.happyvisio.com/conference/7730-happy-shiatsu-10-octobre">Cliquez-ici pour obtenir plus d’informations ou vous connecter à la conférence</a></p>
END:VEVENT
END:VCALENDAR
