BEGIN:VCALENDAR
VERSION:2.0
BEGIN:VEVENT
TZID:Europe/Paris
STATUS:CONFIRMED
DTSTART:20251009T100000
DTEND:20251009T104500
SUMMARY:Happy Stretching - 9 octobre
DESCRIPTION:<p><b>Titre de la conférence</b> : Happy Stretching - 9 octobre </p>
 <p><b>Date et heure de la conférence</b> : 09/10/2025 10h00</p>
 <p><b>Durée de la conférence </b>: 45 minutes</p>
 <b>Description</b> : <p>D&eacute\;couvrez les bienfaits du stretching gr&acirc\;ce aux diff&eacute\;rentes techniques d&#39\;assouplissements\, d&#39\;&eacute\;tirements et de prise de conscience de son corps.</p>\n\n<p>Le Stretching a pour objectif\, d&#39\;assouplir et d&#39\;&eacute\;tirer les tissus organiques\, en particulier les fibres musculaires et les articulations.</p>\n\n<p>Il s&#39\;agit de pratiquer des postures passives et dynamiques\, les mouvements sont accompagn&eacute\;s d&#39\;un travail respiratoire.</p>\n\n<p>Le stretching am&eacute\;liore la souplesse\, l&#39\;amplitude du mouvement\, il permet &eacute\;galement la d&eacute\;tente du mental.</p>\n\n<p>Cette s&eacute\;ance d&#39\;une dur&eacute\;e de 45 minutes se d&eacute\;roulera <strong>principalement &agrave\; l&#39\;aide d&#39\;une chaise</strong>.</p>\n<p><a href="http://www.happyvisio.com/conference/7729-happy-stretching-9-octobre">Cliquez-ici pour obtenir plus d’informations ou vous connecter à la conférence</a></p>
X-ALT-DESC;FMTTYPE=text/html:<p><b>Titre de la conférence</b> : Happy Stretching - 9 octobre </p>
 <p><b>Date et heure de la conférence</b> : 09/10/2025 10h00</p>
 <p><b>Durée de la conférence </b>: 45 minutes</p>
 <b>Description</b> : <p>D&eacute\;couvrez les bienfaits du stretching gr&acirc\;ce aux diff&eacute\;rentes techniques d&#39\;assouplissements\, d&#39\;&eacute\;tirements et de prise de conscience de son corps.</p>\n\n<p>Le Stretching a pour objectif\, d&#39\;assouplir et d&#39\;&eacute\;tirer les tissus organiques\, en particulier les fibres musculaires et les articulations.</p>\n\n<p>Il s&#39\;agit de pratiquer des postures passives et dynamiques\, les mouvements sont accompagn&eacute\;s d&#39\;un travail respiratoire.</p>\n\n<p>Le stretching am&eacute\;liore la souplesse\, l&#39\;amplitude du mouvement\, il permet &eacute\;galement la d&eacute\;tente du mental.</p>\n\n<p>Cette s&eacute\;ance d&#39\;une dur&eacute\;e de 45 minutes se d&eacute\;roulera <strong>principalement &agrave\; l&#39\;aide d&#39\;une chaise</strong>.</p>\n<p><a href="http://www.happyvisio.com/conference/7729-happy-stretching-9-octobre">Cliquez-ici pour obtenir plus d’informations ou vous connecter à la conférence</a></p>
END:VEVENT
END:VCALENDAR
