BEGIN:VCALENDAR
VERSION:2.0
BEGIN:VEVENT
TZID:Europe/Paris
STATUS:CONFIRMED
DTSTART:20251008T100000
DTEND:20251008T104500
SUMMARY:Happy Yoga - mercredi 8 octobre
DESCRIPTION:<p><b>Titre de la conférence</b> : Happy Yoga - mercredi 8 octobre </p>
 <p><b>Date et heure de la conférence</b> : 08/10/2025 10h00</p>
 <p><b>Durée de la conférence </b>: 45 minutes</p>
 <b>Description</b> : <p>Lors de cette s&eacute\;ance\, explorons notre souffle\, la synchronisation mouvement-respiration !&nbsp\;</p>\n\n<p>Des pratiques visant &agrave\; r&eacute\;duire le stress\, &agrave\; d&eacute\;nouer les tensions\, &agrave\; assouplir le corps et l&#39\;esprit.&nbsp\;</p>\n\n<p>Mat&eacute\;riel n&eacute\;cessaire:</p>\n\n<ul>\n	<li>Tapis\, Coussin</li>\n	<li>Plaid/couverture: pour se couvrir\, mais aussi pour mettre sous les genoux</li>\n</ul>\n<p><a href="http://www.happyvisio.com/conference/7728-happy-yoga-mercredi-8-octobre">Cliquez-ici pour obtenir plus d’informations ou vous connecter à la conférence</a></p>
X-ALT-DESC;FMTTYPE=text/html:<p><b>Titre de la conférence</b> : Happy Yoga - mercredi 8 octobre </p>
 <p><b>Date et heure de la conférence</b> : 08/10/2025 10h00</p>
 <p><b>Durée de la conférence </b>: 45 minutes</p>
 <b>Description</b> : <p>Lors de cette s&eacute\;ance\, explorons notre souffle\, la synchronisation mouvement-respiration !&nbsp\;</p>\n\n<p>Des pratiques visant &agrave\; r&eacute\;duire le stress\, &agrave\; d&eacute\;nouer les tensions\, &agrave\; assouplir le corps et l&#39\;esprit.&nbsp\;</p>\n\n<p>Mat&eacute\;riel n&eacute\;cessaire:</p>\n\n<ul>\n	<li>Tapis\, Coussin</li>\n	<li>Plaid/couverture: pour se couvrir\, mais aussi pour mettre sous les genoux</li>\n</ul>\n<p><a href="http://www.happyvisio.com/conference/7728-happy-yoga-mercredi-8-octobre">Cliquez-ici pour obtenir plus d’informations ou vous connecter à la conférence</a></p>
END:VEVENT
END:VCALENDAR
