BEGIN:VCALENDAR
VERSION:2.0
BEGIN:VEVENT
TZID:Europe/Paris
STATUS:CONFIRMED
DTSTART:20251007T100000
DTEND:20251007T104500
SUMMARY:Happy Qi Gong - 7 octobre
DESCRIPTION:TITRE DE LA CONFÉRENCE : Happy Qi Gong - 7 octobre\n\nDATE ET HEURE DE LA CONFÉRENCE : 07/10/2025 10h00\n\nDURÉE DE LA CONFÉRENCE : 45 minutes\n\nDESCRIPTION : QI GONG ET ENERGIE chez HAPPYVISIO c'est :\nLa pratique et la maîtrise :\n\n\n	de la respiration et de la concentration.\n	des postures statiques\n	des mouvements lents\n	des marches\n	des sons\n	des auto-massages\n	des méditations\n\n\nProgramme des premières semaines :\n• Echauffement.\n• Apprentissage détaillé d'un mouvement à chaque séance\, pour progresser dans\nsa pratique.\n• Pratique du QI GONG des 5 éléments complet (9 mouvements).\n• Posture Zhan Zhuang (méditation taoïste) : Wuji.\n\nRetrouvez le programme complet dans la section documents liés.\n\nQu''est ce que Le QI GONG ?\n\n\n	Le QI GONG est une pratique faisant partie de la tradition chinoise.\n	 \n	QI\, en langage courant\, veut dire souffle. Gong veut dire travail.Le QI GONG\, c'est le travail du souffle. C'est le travail sur et avec l'énergie vitale.\n	 \n	QI GONG est un terme générique qui désigne des exercices et des méthodes aussi divers que nombreux\, dont la pratique régulière permet de retrouver ou de conserver l'équilibre indispensable à une vie harmonieuse.\n	 \n	Le QI GONG est l'association du mouvement\, de la respiration et de la concentration qui donne toute sa puissance à ses exercices.\n	 \n	Une fois que votre souffle se prolonge et circule partout dans votre corps sans obstacle\, votre énergie vitale est nourrie et régénérée.\n	 \n	C'est la mise en mouvement du QI (souffle\, énergie\, vitalité) par différents procédés qui\, permettent de rétablir l'équilibre de l'organisme.\n\n\nCliquez sur le lien suivant pour plus d'informations ou vous connecter à la conférence : http://www.happyvisio.com/conference/7727-happy-qi-gong-7-octobre
X-ALT-DESC;FMTTYPE=text/html:TITRE DE LA CONFÉRENCE : Happy Qi Gong - 7 octobre DATE ET HEURE DE LA CONFÉRENCE : 07/10/2025 10h00 DURÉE DE LA CONFÉRENCE : 45 minutes DESCRIPTION : QI GONG ET ENERGIE chez HAPPYVISIO c'est :\nLa pratique et la maîtrise :\n\n\n	de la respiration et de la concentration.\n	des postures statiques\n	des mouvements lents\n	des marches\n	des sons\n	des auto-massages\n	des méditations\n\n\nProgramme des premières semaines :\n• Echauffement.\n• Apprentissage détaillé d'un mouvement à chaque séance\, pour progresser dans\nsa pratique.\n• Pratique du QI GONG des 5 éléments complet (9 mouvements).\n• Posture Zhan Zhuang (méditation taoïste) : Wuji.\n\nRetrouvez le programme complet dans la section documents liés.\n\nQu''est ce que Le QI GONG ?\n\n\n	Le QI GONG est une pratique faisant partie de la tradition chinoise.\n	 \n	QI\, en langage courant\, veut dire souffle. Gong veut dire travail.Le QI GONG\, c'est le travail du souffle. C'est le travail sur et avec l'énergie vitale.\n	 \n	QI GONG est un terme générique qui désigne des exercices et des méthodes aussi divers que nombreux\, dont la pratique régulière permet de retrouver ou de conserver l'équilibre indispensable à une vie harmonieuse.\n	 \n	Le QI GONG est l'association du mouvement\, de la respiration et de la concentration qui donne toute sa puissance à ses exercices.\n	 \n	Une fois que votre souffle se prolonge et circule partout dans votre corps sans obstacle\, votre énergie vitale est nourrie et régénérée.\n	 \n	C'est la mise en mouvement du QI (souffle\, énergie\, vitalité) par différents procédés qui\, permettent de rétablir l'équilibre de l'organisme.\n\n\nCliquez sur le lien suivant pour plus d'informations ou vous connecter à la conférence : http://www.happyvisio.com/conference/7727-happy-qi-gong-7-octobre
END:VEVENT
END:VCALENDAR
