BEGIN:VCALENDAR
VERSION:2.0
BEGIN:VEVENT
TZID:Europe/Paris
STATUS:CONFIRMED
DTSTART:20251008T090000
DTEND:20251008T094000
SUMMARY:Happy Tonic - mercredi 8 octobre
DESCRIPTION:<p><b>Titre de la conférence</b> : Happy Tonic - mercredi 8 octobre </p>
 <p><b>Date et heure de la conférence</b> : 08/10/2025 09h00</p>
 <p><b>Durée de la conférence </b>: 40 minutes</p>
 <b>Description</b> : <p><strong><u>S&eacute\;ance cardio</u></strong></p>\n\n<p>40 minutes d&rsquo\;exercices simples et accessibles &agrave\; tous\, pour vous permettre de rester en forme et de donner du rythme &agrave\; votre journ&eacute\;e.<br />\n<br />\nLes s&eacute\;ances <em>Happy Tonic</em> sont anim&eacute\;es par un professionnel dipl&ocirc\;m&eacute\; en activit&eacute\; physique adapt&eacute\;e et ont pour objectif de renforcer vos aptitudes cardiaques et respiratoires. Des conseils vous sont donn&eacute\;s pour chaque exercice\, tout comme des possibilit&eacute\;s d&#39\;adapter ces derniers selon votre condition physique.</p>\n\n<p>Nous vous conseillons d&#39\;&ecirc\;tre &agrave\; l&#39\;&eacute\;coute de votre corps et de vos ressentis\, et de ne pas h&eacute\;siter &agrave\; faire des pauses en cas d&#39\;inconfort\, voire de suspendre votre activit&eacute\; en cas de douleurs ou g&ecirc\;nes prolong&eacute\;es.<br />\n<br />\nEt n&#39\;oubliez pas de mettre une bouteille d&#39\;eau pr&egrave\;s de vous\, pour vous hydrater tout au long de la s&eacute\;ance.</p>\n\n<p>&nbsp\;</p>\n\n<p>&nbsp\;</p>\n<p><a href="http://www.happyvisio.com/conference/7724-happy-tonic-mercredi-8-octobre">Cliquez-ici pour obtenir plus d’informations ou vous connecter à la conférence</a></p>
X-ALT-DESC;FMTTYPE=text/html:<p><b>Titre de la conférence</b> : Happy Tonic - mercredi 8 octobre </p>
 <p><b>Date et heure de la conférence</b> : 08/10/2025 09h00</p>
 <p><b>Durée de la conférence </b>: 40 minutes</p>
 <b>Description</b> : <p><strong><u>S&eacute\;ance cardio</u></strong></p>\n\n<p>40 minutes d&rsquo\;exercices simples et accessibles &agrave\; tous\, pour vous permettre de rester en forme et de donner du rythme &agrave\; votre journ&eacute\;e.<br />\n<br />\nLes s&eacute\;ances <em>Happy Tonic</em> sont anim&eacute\;es par un professionnel dipl&ocirc\;m&eacute\; en activit&eacute\; physique adapt&eacute\;e et ont pour objectif de renforcer vos aptitudes cardiaques et respiratoires. Des conseils vous sont donn&eacute\;s pour chaque exercice\, tout comme des possibilit&eacute\;s d&#39\;adapter ces derniers selon votre condition physique.</p>\n\n<p>Nous vous conseillons d&#39\;&ecirc\;tre &agrave\; l&#39\;&eacute\;coute de votre corps et de vos ressentis\, et de ne pas h&eacute\;siter &agrave\; faire des pauses en cas d&#39\;inconfort\, voire de suspendre votre activit&eacute\; en cas de douleurs ou g&ecirc\;nes prolong&eacute\;es.<br />\n<br />\nEt n&#39\;oubliez pas de mettre une bouteille d&#39\;eau pr&egrave\;s de vous\, pour vous hydrater tout au long de la s&eacute\;ance.</p>\n\n<p>&nbsp\;</p>\n\n<p>&nbsp\;</p>\n<p><a href="http://www.happyvisio.com/conference/7724-happy-tonic-mercredi-8-octobre">Cliquez-ici pour obtenir plus d’informations ou vous connecter à la conférence</a></p>
END:VEVENT
END:VCALENDAR
