BEGIN:VCALENDAR
VERSION:2.0
BEGIN:VEVENT
TZID:Europe/Paris
STATUS:CONFIRMED
DTSTART:20251013T163000
DTEND:20251013T171500
SUMMARY:Do you speak English ?
DESCRIPTION:<p><b>Titre de la conférence</b> : Do you speak English ? </p>
 <p><b>Date et heure de la conférence</b> : 13/10/2025 16h30</p>
 <p><b>Durée de la conférence </b>: 45 minutes</p>
 <b>Description</b> : <p><strong><u>Th&egrave\;me :&nbsp\;entertainment</u></strong></p>\n\n<p>L&acute\;Anglais<strong> </strong>... &agrave\; la port&eacute\;e de tous ! Vous souhaitez d&eacute\;couvrir la langue anglaise ou perfectionner votre anglais ?</p>\n\n<p>Participez &agrave\; cette s&eacute\;ance anim&eacute\;e par Isabelle\, la formatrice en langue anglaise d&#39\;HappyVisio\, qui vous propose d&#39\;apprendre &agrave\; parler anglais avec une m&eacute\;thode qui s&#39\;appuie sur les r&eacute\;f&eacute\;rences culturelles et les mises en situation pratiques.</p>\n\n<p>Tous les niveaux sont les bienvenus\, c&#39\;est aussi et avant tout un rendez-vous convivial et de bonne humeur. &nbsp\;&nbsp\;</p>\n\n<p style=\"text-align:center\">Lors de cette s&eacute\;ance\, Isabelle abordera:&nbsp\;&nbsp\;<strong>The</strong>&nbsp\;<strong>entertainment</strong></p>\n<p><a href="http://www.happyvisio.com/conference/7721-do-you-speak-english">Cliquez-ici pour obtenir plus d’informations ou vous connecter à la conférence</a></p>
X-ALT-DESC;FMTTYPE=text/html:<p><b>Titre de la conférence</b> : Do you speak English ? </p>
 <p><b>Date et heure de la conférence</b> : 13/10/2025 16h30</p>
 <p><b>Durée de la conférence </b>: 45 minutes</p>
 <b>Description</b> : <p><strong><u>Th&egrave\;me :&nbsp\;entertainment</u></strong></p>\n\n<p>L&acute\;Anglais<strong> </strong>... &agrave\; la port&eacute\;e de tous ! Vous souhaitez d&eacute\;couvrir la langue anglaise ou perfectionner votre anglais ?</p>\n\n<p>Participez &agrave\; cette s&eacute\;ance anim&eacute\;e par Isabelle\, la formatrice en langue anglaise d&#39\;HappyVisio\, qui vous propose d&#39\;apprendre &agrave\; parler anglais avec une m&eacute\;thode qui s&#39\;appuie sur les r&eacute\;f&eacute\;rences culturelles et les mises en situation pratiques.</p>\n\n<p>Tous les niveaux sont les bienvenus\, c&#39\;est aussi et avant tout un rendez-vous convivial et de bonne humeur. &nbsp\;&nbsp\;</p>\n\n<p style=\"text-align:center\">Lors de cette s&eacute\;ance\, Isabelle abordera:&nbsp\;&nbsp\;<strong>The</strong>&nbsp\;<strong>entertainment</strong></p>\n<p><a href="http://www.happyvisio.com/conference/7721-do-you-speak-english">Cliquez-ici pour obtenir plus d’informations ou vous connecter à la conférence</a></p>
END:VEVENT
END:VCALENDAR
