BEGIN:VCALENDAR
VERSION:2.0
BEGIN:VEVENT
TZID:Europe/Paris
STATUS:CONFIRMED
DTSTART:20251017T163000
DTEND:20251017T171500
SUMMARY:Happy Relax - 17 octobre
DESCRIPTION:TITRE DE LA CONFÉRENCE : Happy Relax - 17 octobre\n\nDATE ET HEURE DE LA CONFÉRENCE : 17/10/2025 16h30\n\nDURÉE DE LA CONFÉRENCE : 45 minutes\n\nDESCRIPTION : La sophrologie est une méthode qui permet de relâcher les tensions musculaires au niveau corporel\, émotionnel  ou de l'ordre des pensées. Par effet de conséquence cela permet de relâcher également les tensions mentales. Et de trouver ou retrouver un bien être intérieur.\n\nUne situation ne peut pas changer par contre\, votre regard et votre perception\, eux\, peuvent changer\, se modifier et vous pouvez vivre plus sereinement votre situation.\n\nLa séance proposée vous permettra d'être à l'écoute de vous-même\, de vous mettre en contact avec vos ressentis\, vos émotions et surtout votre respiration.\n\nTout est mouvement...\n\nL'essentiel c'est VOUS et la sophrologie vous permettra de vous apporter les outils nécessaires pour Être qui vous êtes... !!\n\n \n\nCliquez sur le lien suivant pour plus d'informations ou vous connecter à la conférence : http://www.happyvisio.com/conference/7720-happy-relax-17-octobre
X-ALT-DESC;FMTTYPE=text/html:TITRE DE LA CONFÉRENCE : Happy Relax - 17 octobre DATE ET HEURE DE LA CONFÉRENCE : 17/10/2025 16h30 DURÉE DE LA CONFÉRENCE : 45 minutes DESCRIPTION : La sophrologie est une méthode qui permet de relâcher les tensions musculaires au niveau corporel\, émotionnel  ou de l'ordre des pensées. Par effet de conséquence cela permet de relâcher également les tensions mentales. Et de trouver ou retrouver un bien être intérieur.\n\nUne situation ne peut pas changer par contre\, votre regard et votre perception\, eux\, peuvent changer\, se modifier et vous pouvez vivre plus sereinement votre situation.\n\nLa séance proposée vous permettra d'être à l'écoute de vous-même\, de vous mettre en contact avec vos ressentis\, vos émotions et surtout votre respiration.\n\nTout est mouvement...\n\nL'essentiel c'est VOUS et la sophrologie vous permettra de vous apporter les outils nécessaires pour Être qui vous êtes... !!\n\n \n\nCliquez sur le lien suivant pour plus d'informations ou vous connecter à la conférence : http://www.happyvisio.com/conference/7720-happy-relax-17-octobre
END:VEVENT
END:VCALENDAR
