BEGIN:VCALENDAR
VERSION:2.0
BEGIN:VEVENT
TZID:Europe/Paris
STATUS:CONFIRMED
DTSTART:20251024T163000
DTEND:20251024T171500
SUMMARY:Happy Relax - 24 octobre
DESCRIPTION:<p><b>Titre de la conférence</b> : Happy Relax - 24 octobre </p>
 <p><b>Date et heure de la conférence</b> : 24/10/2025 16h30</p>
 <p><b>Durée de la conférence </b>: 45 minutes</p>
 <b>Description</b> : <p>La <strong>m&eacute\;thode Vittoz</strong> est une approche psycho-corporelle bas&eacute\;e sur la red&eacute\;couverte de nos cinq sens\, l&#39\;accueil de nos sensations\, la conscience de nos actes\, dans l&#39\;ici et maintenant. Avec le Vittoz\, on ne cherche pas uniquement &agrave\; ressentir des &eacute\;motions dites positives\, mais &agrave\; d&eacute\;velopper une relation positive &agrave\; nos &eacute\;motions.</p>\n\n<p>Durant cette s&eacute\;ance\, nous allons explorer des exercices de relaxation visant &agrave\; d&eacute\;tendre le corps et &agrave\; apaiser l&rsquo\;esprit. Vous apprendrez &agrave\; lib&eacute\;rer les tensions accumul&eacute\;es\, &agrave\; am&eacute\;liorer votre concentration et &agrave\; d&eacute\;velopper une meilleure conscience de l&rsquo\;instant pr&eacute\;sent.</p>\n\n<p>Que vous soyez novice ou d&eacute\;j&agrave\; familier avec cette m&eacute\;thode\, cette s&eacute\;ance vous offrira un moment privil&eacute\;gi&eacute\; pour faire une pause dans votre quotidien et prendre soin de vous. Nous vous encourageons &agrave\; cr&eacute\;er un environnement calme et confortable\, et &agrave\; vous pr&eacute\;parer &agrave\; vivre un moment de d&eacute\;tente profonde.</p>\n\n<p>Prenez une grande inspiration\, et laissez-vous porter.</p>\n<p><a href="http://www.happyvisio.com/conference/7719-happy-relax-24-octobre">Cliquez-ici pour obtenir plus d’informations ou vous connecter à la conférence</a></p>
X-ALT-DESC;FMTTYPE=text/html:<p><b>Titre de la conférence</b> : Happy Relax - 24 octobre </p>
 <p><b>Date et heure de la conférence</b> : 24/10/2025 16h30</p>
 <p><b>Durée de la conférence </b>: 45 minutes</p>
 <b>Description</b> : <p>La <strong>m&eacute\;thode Vittoz</strong> est une approche psycho-corporelle bas&eacute\;e sur la red&eacute\;couverte de nos cinq sens\, l&#39\;accueil de nos sensations\, la conscience de nos actes\, dans l&#39\;ici et maintenant. Avec le Vittoz\, on ne cherche pas uniquement &agrave\; ressentir des &eacute\;motions dites positives\, mais &agrave\; d&eacute\;velopper une relation positive &agrave\; nos &eacute\;motions.</p>\n\n<p>Durant cette s&eacute\;ance\, nous allons explorer des exercices de relaxation visant &agrave\; d&eacute\;tendre le corps et &agrave\; apaiser l&rsquo\;esprit. Vous apprendrez &agrave\; lib&eacute\;rer les tensions accumul&eacute\;es\, &agrave\; am&eacute\;liorer votre concentration et &agrave\; d&eacute\;velopper une meilleure conscience de l&rsquo\;instant pr&eacute\;sent.</p>\n\n<p>Que vous soyez novice ou d&eacute\;j&agrave\; familier avec cette m&eacute\;thode\, cette s&eacute\;ance vous offrira un moment privil&eacute\;gi&eacute\; pour faire une pause dans votre quotidien et prendre soin de vous. Nous vous encourageons &agrave\; cr&eacute\;er un environnement calme et confortable\, et &agrave\; vous pr&eacute\;parer &agrave\; vivre un moment de d&eacute\;tente profonde.</p>\n\n<p>Prenez une grande inspiration\, et laissez-vous porter.</p>\n<p><a href="http://www.happyvisio.com/conference/7719-happy-relax-24-octobre">Cliquez-ici pour obtenir plus d’informations ou vous connecter à la conférence</a></p>
END:VEVENT
END:VCALENDAR
