BEGIN:VCALENDAR
VERSION:2.0
BEGIN:VEVENT
TZID:Europe/Paris
STATUS:CONFIRMED
DTSTART:20251106T133000
DTEND:20251106T143000
SUMMARY:Le microbiote, gardien invisible de votre santé
DESCRIPTION:TITRE DE LA CONFÉRENCE : Le microbiote, gardien invisible de votre santé\n\nDATE ET HEURE DE LA CONFÉRENCE : 06/11/2025 13h30\n\nDURÉE DE LA CONFÉRENCE : 60 minutes\n\nDESCRIPTION : Et si votre bien-être dépendait aussi de milliards de micro-organismes qui vivent en vous ?\n\nDécouvrez comment certains choix de vie peuvent améliorer votre microbiote… ou au contraire l’affaiblir. Nous verrons aussi le rôle des facteurs environnementaux qui influencent son équilibre\, et comment ce petit monde intérieur est intimement lié à notre santé mentale.\n\nCliquez sur le lien suivant pour plus d'informations ou vous connecter à la conférence : http://www.happyvisio.com/conference/7716-le-microbiote-gardien-invisible-de-votre-sante
X-ALT-DESC;FMTTYPE=text/html:TITRE DE LA CONFÉRENCE : Le microbiote, gardien invisible de votre santé DATE ET HEURE DE LA CONFÉRENCE : 06/11/2025 13h30 DURÉE DE LA CONFÉRENCE : 60 minutes DESCRIPTION : Et si votre bien-être dépendait aussi de milliards de micro-organismes qui vivent en vous ?\n\nDécouvrez comment certains choix de vie peuvent améliorer votre microbiote… ou au contraire l’affaiblir. Nous verrons aussi le rôle des facteurs environnementaux qui influencent son équilibre\, et comment ce petit monde intérieur est intimement lié à notre santé mentale.\n\nCliquez sur le lien suivant pour plus d'informations ou vous connecter à la conférence : http://www.happyvisio.com/conference/7716-le-microbiote-gardien-invisible-de-votre-sante
END:VEVENT
END:VCALENDAR
