BEGIN:VCALENDAR
VERSION:2.0
BEGIN:VEVENT
TZID:Europe/Paris
STATUS:CONFIRMED
DTSTART:20251016T110000
DTEND:20251016T120000
SUMMARY:Les clés pour protéger son cœur
DESCRIPTION:<p><b>Titre de la conférence</b> : Les clés pour protéger son cœur </p>
 <p><b>Date et heure de la conférence</b> : 16/10/2025 11h00</p>
 <p><b>Durée de la conférence </b>: 60 minutes</p>
 <b>Description</b> : <p>Les maladies cardio-neuro-vasculaires constituent la 2&egrave\;me cause de mortalit&eacute\; en France\, avec pr&egrave\;s de 140 000 d&eacute\;c&egrave\;s par an\, soit un d&eacute\;c&egrave\;s sur cinq. Sant&eacute\; publique France a d&eacute\;voil&eacute\; une &eacute\;tude selon laquelle les Normands sont davantage touch&eacute\;s par ces pathologies que le reste de la France. Elles surviennent souvent sans pr&eacute\;venir\, et lorsqu&rsquo\;elles s&rsquo\;annoncent\, leurs signes restent trop souvent ignor&eacute\;s\, d&rsquo\;autant qu&rsquo\;ils diff&egrave\;rent que l&rsquo\;on soit homme ou femme.</p>\n\n<p>Ce webinaire vous permettra de mieux comprendre les maladies les plus fr&eacute\;quentes et leur impact\, de reconna&icirc\;tre les signes d&rsquo\;alerte\, d&rsquo\;identifier les facteurs de risque h&eacute\;r&eacute\;ditaires ou li&eacute\;s &agrave\; nos modes de vie\, et de d&eacute\;couvrir des conseils pratiques pour pr&eacute\;server la sant&eacute\; de votre c&oelig\;ur au quotidien.</p>\n<p><a href="http://www.happyvisio.com/conference/7715-les-cles-pour-proteger-son-coeur">Cliquez-ici pour obtenir plus d’informations ou vous connecter à la conférence</a></p>
X-ALT-DESC;FMTTYPE=text/html:<p><b>Titre de la conférence</b> : Les clés pour protéger son cœur </p>
 <p><b>Date et heure de la conférence</b> : 16/10/2025 11h00</p>
 <p><b>Durée de la conférence </b>: 60 minutes</p>
 <b>Description</b> : <p>Les maladies cardio-neuro-vasculaires constituent la 2&egrave\;me cause de mortalit&eacute\; en France\, avec pr&egrave\;s de 140 000 d&eacute\;c&egrave\;s par an\, soit un d&eacute\;c&egrave\;s sur cinq. Sant&eacute\; publique France a d&eacute\;voil&eacute\; une &eacute\;tude selon laquelle les Normands sont davantage touch&eacute\;s par ces pathologies que le reste de la France. Elles surviennent souvent sans pr&eacute\;venir\, et lorsqu&rsquo\;elles s&rsquo\;annoncent\, leurs signes restent trop souvent ignor&eacute\;s\, d&rsquo\;autant qu&rsquo\;ils diff&egrave\;rent que l&rsquo\;on soit homme ou femme.</p>\n\n<p>Ce webinaire vous permettra de mieux comprendre les maladies les plus fr&eacute\;quentes et leur impact\, de reconna&icirc\;tre les signes d&rsquo\;alerte\, d&rsquo\;identifier les facteurs de risque h&eacute\;r&eacute\;ditaires ou li&eacute\;s &agrave\; nos modes de vie\, et de d&eacute\;couvrir des conseils pratiques pour pr&eacute\;server la sant&eacute\; de votre c&oelig\;ur au quotidien.</p>\n<p><a href="http://www.happyvisio.com/conference/7715-les-cles-pour-proteger-son-coeur">Cliquez-ici pour obtenir plus d’informations ou vous connecter à la conférence</a></p>
END:VEVENT
END:VCALENDAR
