BEGIN:VCALENDAR
VERSION:2.0
BEGIN:VEVENT
TZID:Europe/Paris
STATUS:CONFIRMED
DTSTART:20251001T100000
DTEND:20251001T104500
SUMMARY:Happy Yoga - mercredi 1 octobre
DESCRIPTION:<p><b>Titre de la conférence</b> : Happy Yoga - mercredi 1 octobre </p>
 <p><b>Date et heure de la conférence</b> : 01/10/2025 10h00</p>
 <p><b>Durée de la conférence </b>: 45 minutes</p>
 <b>Description</b> : <p>Rejoignez-nous pour un cours de yoga en visio\, con&ccedil\;u pour vous offrir d&eacute\;tente et bien-&ecirc\;tre\, o&ugrave\; que vous soyez.</p>\n\n<p>Que vous soyez d&eacute\;butant ou pratiquant exp&eacute\;riment&eacute\;\, chaque s&eacute\;ance est adapt&eacute\;e &agrave\; votre niveau.</p>\n\n<p>Gr&acirc\;ce &agrave\; des postures simples\, des respirations profondes et un accompagnement personnalis&eacute\;\, ce cours vous permet de vous recentrer et de vous relaxer\, tout en restant confortablement chez vous.</p>\n\n<p>Prenez soin de vous\, m&ecirc\;me &agrave\; distance !</p>\n<p><a href="http://www.happyvisio.com/conference/7711-happy-yoga-mercredi-1-octobre">Cliquez-ici pour obtenir plus d’informations ou vous connecter à la conférence</a></p>
X-ALT-DESC;FMTTYPE=text/html:<p><b>Titre de la conférence</b> : Happy Yoga - mercredi 1 octobre </p>
 <p><b>Date et heure de la conférence</b> : 01/10/2025 10h00</p>
 <p><b>Durée de la conférence </b>: 45 minutes</p>
 <b>Description</b> : <p>Rejoignez-nous pour un cours de yoga en visio\, con&ccedil\;u pour vous offrir d&eacute\;tente et bien-&ecirc\;tre\, o&ugrave\; que vous soyez.</p>\n\n<p>Que vous soyez d&eacute\;butant ou pratiquant exp&eacute\;riment&eacute\;\, chaque s&eacute\;ance est adapt&eacute\;e &agrave\; votre niveau.</p>\n\n<p>Gr&acirc\;ce &agrave\; des postures simples\, des respirations profondes et un accompagnement personnalis&eacute\;\, ce cours vous permet de vous recentrer et de vous relaxer\, tout en restant confortablement chez vous.</p>\n\n<p>Prenez soin de vous\, m&ecirc\;me &agrave\; distance !</p>\n<p><a href="http://www.happyvisio.com/conference/7711-happy-yoga-mercredi-1-octobre">Cliquez-ici pour obtenir plus d’informations ou vous connecter à la conférence</a></p>
END:VEVENT
END:VCALENDAR
