BEGIN:VCALENDAR
VERSION:2.0
BEGIN:VEVENT
TZID:Europe/Paris
STATUS:CONFIRMED
DTSTART:20251016T130000
DTEND:20251016T140000
SUMMARY:Au cœur de la santé des femmes
DESCRIPTION:TITRE DE LA CONFÉRENCE : Au cœur de la santé des femmes\n\nDATE ET HEURE DE LA CONFÉRENCE : 16/10/2025 13h00\n\nDURÉE DE LA CONFÉRENCE : 60 minutes\n\nDESCRIPTION : La santé des femmes n'est pas une affaire individuelle\, mais un enjeu partagé. Que vous soyez une femme qui souhaite mieux comprendre son corps\, un homme soucieux d'accompagner sa partenaire ou un proche désireux d'être un meilleur allié\, les questions sur la santé féminine sont nombreuses et souvent sources d'inquiétude. La peur de la douleur lors d'une mammographie\, l'incertitude sur les signes qui doivent alerter\, ou les fluctuations hormonales sont des sujets qui peuvent toucher chacun d'entre nous\, directement ou indirectement.\n\nCliquez sur le lien suivant pour plus d'informations ou vous connecter à la conférence : http://www.happyvisio.com/conference/7702-au-coeur-de-la-sante-des-femmes
X-ALT-DESC;FMTTYPE=text/html:TITRE DE LA CONFÉRENCE : Au cœur de la santé des femmes DATE ET HEURE DE LA CONFÉRENCE : 16/10/2025 13h00 DURÉE DE LA CONFÉRENCE : 60 minutes DESCRIPTION : La santé des femmes n'est pas une affaire individuelle\, mais un enjeu partagé. Que vous soyez une femme qui souhaite mieux comprendre son corps\, un homme soucieux d'accompagner sa partenaire ou un proche désireux d'être un meilleur allié\, les questions sur la santé féminine sont nombreuses et souvent sources d'inquiétude. La peur de la douleur lors d'une mammographie\, l'incertitude sur les signes qui doivent alerter\, ou les fluctuations hormonales sont des sujets qui peuvent toucher chacun d'entre nous\, directement ou indirectement.\n\nCliquez sur le lien suivant pour plus d'informations ou vous connecter à la conférence : http://www.happyvisio.com/conference/7702-au-coeur-de-la-sante-des-femmes
END:VEVENT
END:VCALENDAR
