BEGIN:VCALENDAR
VERSION:2.0
BEGIN:VEVENT
TZID:Europe/Paris
STATUS:CONFIRMED
DTSTART:20251010T140000
DTEND:20251010T150000
SUMMARY:Booster son bien-être au quotidien avec la psychologie positive
DESCRIPTION:<p><b>Titre de la conférence</b> : Booster son bien-être au quotidien avec la psychologie positive </p>
 <p><b>Date et heure de la conférence</b> : 10/10/2025 14h00</p>
 <p><b>Durée de la conférence </b>: 60 minutes</p>
 <b>Description</b> : <p style=\"text-align:justify\">La sant&eacute\; mentale positive est un &eacute\;tat de bien-&ecirc\;tre dans lequel la personne se r&eacute\;alise\, surmonte des tensions normales de la vie\, accomplit un travail productif et fructueux\, contribue &agrave\;&nbsp\;la vie de sa communaut&eacute\;. Mais le faible degr&eacute\; d&rsquo\;&eacute\;panouissement&nbsp\;personnel est un facteur de risque de la d&eacute\;pression.</p>\n\n<p style=\"text-align:justify\">La psychologie positive permet d&rsquo\;aider &agrave\; se focaliser sur ce&nbsp\;qui va bien et sur les potentiels positifs\, afin de promouvoir un sentiment de bien-&ecirc\;tre et d&rsquo\;&eacute\;panouissement. Cette conf&eacute\;rence&nbsp\;permet de d&eacute\;couvrir la psychologie positive ou &laquo\; science du bonheur &raquo\; et d&rsquo\;exp&eacute\;rimenter des exercices pratiques.</p>\n\n<p>&nbsp\;</p>\n<p><a href="http://www.happyvisio.com/conference/7699-booster-son-bien-etre-au-quotidien-avec-la-psychologie-positive">Cliquez-ici pour obtenir plus d’informations ou vous connecter à la conférence</a></p>
X-ALT-DESC;FMTTYPE=text/html:<p><b>Titre de la conférence</b> : Booster son bien-être au quotidien avec la psychologie positive </p>
 <p><b>Date et heure de la conférence</b> : 10/10/2025 14h00</p>
 <p><b>Durée de la conférence </b>: 60 minutes</p>
 <b>Description</b> : <p style=\"text-align:justify\">La sant&eacute\; mentale positive est un &eacute\;tat de bien-&ecirc\;tre dans lequel la personne se r&eacute\;alise\, surmonte des tensions normales de la vie\, accomplit un travail productif et fructueux\, contribue &agrave\;&nbsp\;la vie de sa communaut&eacute\;. Mais le faible degr&eacute\; d&rsquo\;&eacute\;panouissement&nbsp\;personnel est un facteur de risque de la d&eacute\;pression.</p>\n\n<p style=\"text-align:justify\">La psychologie positive permet d&rsquo\;aider &agrave\; se focaliser sur ce&nbsp\;qui va bien et sur les potentiels positifs\, afin de promouvoir un sentiment de bien-&ecirc\;tre et d&rsquo\;&eacute\;panouissement. Cette conf&eacute\;rence&nbsp\;permet de d&eacute\;couvrir la psychologie positive ou &laquo\; science du bonheur &raquo\; et d&rsquo\;exp&eacute\;rimenter des exercices pratiques.</p>\n\n<p>&nbsp\;</p>\n<p><a href="http://www.happyvisio.com/conference/7699-booster-son-bien-etre-au-quotidien-avec-la-psychologie-positive">Cliquez-ici pour obtenir plus d’informations ou vous connecter à la conférence</a></p>
END:VEVENT
END:VCALENDAR
