BEGIN:VCALENDAR
VERSION:2.0
BEGIN:VEVENT
TZID:Europe/Paris
STATUS:CONFIRMED
DTSTART:20251010T163000
DTEND:20251010T171500
SUMMARY:Happy Relax - 10 octobre
DESCRIPTION:TITRE DE LA CONFÉRENCE : Happy Relax - 10 octobre\n\nDATE ET HEURE DE LA CONFÉRENCE : 10/10/2025 16h30\n\nDURÉE DE LA CONFÉRENCE : 45 minutes\n\nDESCRIPTION : La méthode Vittoz est une approche psycho-corporelle basée sur la redécouverte de nos cinq sens\, l'accueil de nos sensations\, la conscience de nos actes\, dans l'ici et maintenant. Avec le Vittoz\, on ne cherche pas uniquement à ressentir des émotions dites positives\, mais à développer une relation positive à nos émotions.\n\nDurant cette séance\, nous allons explorer des exercices de relaxation visant à détendre le corps et à apaiser l’esprit. Vous apprendrez à libérer les tensions accumulées\, à améliorer votre concentration et à développer une meilleure conscience de l’instant présent.\n\nQue vous soyez novice ou déjà familier avec cette méthode\, cette séance vous offrira un moment privilégié pour faire une pause dans votre quotidien et prendre soin de vous. Nous vous encourageons à créer un environnement calme et confortable\, et à vous préparer à vivre un moment de détente profonde.\n\nPrenez une grande inspiration\, et laissez-vous porter.\n\nMerci d'apporter 3 aliments (2 solides\, 1 liquide) pour cette séance.\n\nCliquez sur le lien suivant pour plus d'informations ou vous connecter à la conférence : http://www.happyvisio.com/conference/7697-happy-relax-10-octobre
X-ALT-DESC;FMTTYPE=text/html:TITRE DE LA CONFÉRENCE : Happy Relax - 10 octobre DATE ET HEURE DE LA CONFÉRENCE : 10/10/2025 16h30 DURÉE DE LA CONFÉRENCE : 45 minutes DESCRIPTION : La méthode Vittoz est une approche psycho-corporelle basée sur la redécouverte de nos cinq sens\, l'accueil de nos sensations\, la conscience de nos actes\, dans l'ici et maintenant. Avec le Vittoz\, on ne cherche pas uniquement à ressentir des émotions dites positives\, mais à développer une relation positive à nos émotions.\n\nDurant cette séance\, nous allons explorer des exercices de relaxation visant à détendre le corps et à apaiser l’esprit. Vous apprendrez à libérer les tensions accumulées\, à améliorer votre concentration et à développer une meilleure conscience de l’instant présent.\n\nQue vous soyez novice ou déjà familier avec cette méthode\, cette séance vous offrira un moment privilégié pour faire une pause dans votre quotidien et prendre soin de vous. Nous vous encourageons à créer un environnement calme et confortable\, et à vous préparer à vivre un moment de détente profonde.\n\nPrenez une grande inspiration\, et laissez-vous porter.\n\nMerci d'apporter 3 aliments (2 solides\, 1 liquide) pour cette séance.\n\nCliquez sur le lien suivant pour plus d'informations ou vous connecter à la conférence : http://www.happyvisio.com/conference/7697-happy-relax-10-octobre
END:VEVENT
END:VCALENDAR
