BEGIN:VCALENDAR
VERSION:2.0
BEGIN:VEVENT
TZID:Europe/Paris
STATUS:CONFIRMED
DTSTART:20251008T163000
DTEND:20251008T171500
SUMMARY:Histoires Vraies
DESCRIPTION:<p><b>Titre de la conférence</b> : Histoires Vraies </p>
 <p><b>Date et heure de la conférence</b> : 08/10/2025 16h30</p>
 <p><b>Durée de la conférence </b>: 45 minutes</p>
 <b>Description</b> : <p style=\"text-align:justify\">Si vous aimez les histoires captivantes\, l&#39\;&eacute\;motion et l&#39\;authenticit&eacute\;\, <strong><em>Histoires Vraies</em></strong> est un rendez-vous que vous ne pouvez pas manquer !</p>\n\n<p>Car durant cette s&eacute\;ance\, St&eacute\;phanie Letellier\, com&eacute\;dienne et &quot\;voix off&quot\; professionnelle\, vous propose un voyage unique &agrave\; travers des histoires vraies et fascinantes\, des r&eacute\;cits poignants ou inspirants.</p>\n<p><a href="http://www.happyvisio.com/conference/7696-histoires-vraies">Cliquez-ici pour obtenir plus d’informations ou vous connecter à la conférence</a></p>
X-ALT-DESC;FMTTYPE=text/html:<p><b>Titre de la conférence</b> : Histoires Vraies </p>
 <p><b>Date et heure de la conférence</b> : 08/10/2025 16h30</p>
 <p><b>Durée de la conférence </b>: 45 minutes</p>
 <b>Description</b> : <p style=\"text-align:justify\">Si vous aimez les histoires captivantes\, l&#39\;&eacute\;motion et l&#39\;authenticit&eacute\;\, <strong><em>Histoires Vraies</em></strong> est un rendez-vous que vous ne pouvez pas manquer !</p>\n\n<p>Car durant cette s&eacute\;ance\, St&eacute\;phanie Letellier\, com&eacute\;dienne et &quot\;voix off&quot\; professionnelle\, vous propose un voyage unique &agrave\; travers des histoires vraies et fascinantes\, des r&eacute\;cits poignants ou inspirants.</p>\n<p><a href="http://www.happyvisio.com/conference/7696-histoires-vraies">Cliquez-ici pour obtenir plus d’informations ou vous connecter à la conférence</a></p>
END:VEVENT
END:VCALENDAR
