BEGIN:VCALENDAR
VERSION:2.0
BEGIN:VEVENT
TZID:Europe/Paris
STATUS:CONFIRMED
DTSTART:20251006T163000
DTEND:20251006T171500
SUMMARY:¿Habla español?
DESCRIPTION:TITRE DE LA CONFÉRENCE : ¿Habla español?\n\nDATE ET HEURE DE LA CONFÉRENCE : 06/10/2025 16h30\n\nDURÉE DE LA CONFÉRENCE : 45 minutes\n\nDESCRIPTION : Thème de la séance : "Preguntas frecuentes (¿qué?\, ¿cuál?\, ¿cuánto?\, ¿dónde?\, ¿por qué?)"\n\n\n\nCliquez sur le lien suivant pour plus d'informations ou vous connecter à la conférence : http://www.happyvisio.com/conference/7695-habla-espanol
X-ALT-DESC;FMTTYPE=text/html:TITRE DE LA CONFÉRENCE : ¿Habla español? DATE ET HEURE DE LA CONFÉRENCE : 06/10/2025 16h30 DURÉE DE LA CONFÉRENCE : 45 minutes DESCRIPTION : Thème de la séance : "Preguntas frecuentes (¿qué?\, ¿cuál?\, ¿cuánto?\, ¿dónde?\, ¿por qué?)"\n\n\n\nCliquez sur le lien suivant pour plus d'informations ou vous connecter à la conférence : http://www.happyvisio.com/conference/7695-habla-espanol
END:VEVENT
END:VCALENDAR
