BEGIN:VCALENDAR
VERSION:2.0
BEGIN:VEVENT
TZID:Europe/Paris
STATUS:CONFIRMED
DTSTART:20251029T111500
DTEND:20251029T114500
SUMMARY:Chaque minute compte : comment agir face à l'AVC
DESCRIPTION:TITRE DE LA CONFÉRENCE : Chaque minute compte : comment agir face à l'AVC\n\nDATE ET HEURE DE LA CONFÉRENCE : 29/10/2025 11h15\n\nDURÉE DE LA CONFÉRENCE : 30 minutes\n\nDESCRIPTION : L'accident vasculaire cérébral (AVC) est une urgence médicale où chaque minute compte. Savoir reconnaître les signaux d'alerte et connaître les gestes à adopter peuvent faire toute la différence.\n\nEn participant à ce webinaire vous  apprendrez à identifier les signes avant-coureurs de l'AVC et découvrirez comment réagir rapidement et efficacement pour sauver une vie.\n\nCliquez sur le lien suivant pour plus d'informations ou vous connecter à la conférence : http://www.happyvisio.com/conference/7688-chaque-minute-compte-comment-agir-face-a-l-avc
X-ALT-DESC;FMTTYPE=text/html:TITRE DE LA CONFÉRENCE : Chaque minute compte : comment agir face à l'AVC DATE ET HEURE DE LA CONFÉRENCE : 29/10/2025 11h15 DURÉE DE LA CONFÉRENCE : 30 minutes DESCRIPTION : L'accident vasculaire cérébral (AVC) est une urgence médicale où chaque minute compte. Savoir reconnaître les signaux d'alerte et connaître les gestes à adopter peuvent faire toute la différence.\n\nEn participant à ce webinaire vous  apprendrez à identifier les signes avant-coureurs de l'AVC et découvrirez comment réagir rapidement et efficacement pour sauver une vie.\n\nCliquez sur le lien suivant pour plus d'informations ou vous connecter à la conférence : http://www.happyvisio.com/conference/7688-chaque-minute-compte-comment-agir-face-a-l-avc
END:VEVENT
END:VCALENDAR
