BEGIN:VCALENDAR
VERSION:2.0
BEGIN:VEVENT
TZID:Europe/Paris
STATUS:CONFIRMED
DTSTART:20251002T100000
DTEND:20251002T113000
SUMMARY:L’AGIRC-ARRCO et son offre de services : pour toutes les générations, à toutes les étapes de la vie
DESCRIPTION:<p><b>Titre de la conférence</b> : L’AGIRC-ARRCO et son offre de services : pour toutes les générations, à toutes les étapes de la vie </p>
 <p><b>Date et heure de la conférence</b> : 02/10/2025 10h00</p>
 <p><b>Durée de la conférence </b>: 90 minutes</p>
 <b>Description</b> : <p>Vous &ecirc\;tes retrait&eacute\; AGIRC-ARRCO ? Venez vous informer sur nos services :<br />\n<br />\n&bull\;&nbsp\; &nbsp\;<strong> Retraite :</strong> Cumul emploi retraite\, r&eacute\;version\, pr&eacute\;l&egrave\;vements sociaux\, d&eacute\;marches en ligne&hellip\;<br />\n&bull\;&nbsp\; &nbsp\; <strong>Accompagnement et de pr&eacute\;vention</strong> : &eacute\;v&egrave\;nements organis&eacute\;s en territoire\, bilan de pr&eacute\;vention\, aidant\, soutien &agrave\; domicile&hellip\;<br />\n<br />\n<br />\nCette conf&eacute\;rence est propos&eacute\;e par l&#39\;<a href=\"https://www.agirc-arrco.fr/\" target=\"_blank\">Agirc</a><a href=\"https://www.agirc-arrco.fr/\" target=\"_blank\">&nbsp\;Arrco</a>.</p>\n\n<p style=\"text-align:justify\">L&rsquo\;Agirc-Arrco vous propose de participer &agrave\; des &eacute\;v&eacute\;nements organis&eacute\;s au plus pr&egrave\;s de chez vous en pr&eacute\;sentiel : Conf&eacute\;rences\, Forum\, Th&eacute\;&acirc\;tres\, Activit&eacute\;s physiques. Pour d&eacute\;couvrir ces activit&eacute\;s et vous y inscrire\, veuillez cliquer&nbsp\;<a href=\"https://www.agirc-arrco.fr/particuliers/mes-services-particuliers/accompagnement-et-prevention/je-participe-a-un-evenement/\" target=\"_blank\">ici.</a></p>\n\n<p style=\"text-align:justify\">Pour d&eacute\;couvrir la programmation &quot\;Les Mardis de l&#39\;Agirc-Arrco&quot\; cliquez&nbsp\;<a href=\"https://www.happyvisio.com/invitation/programme?list=36\" target=\"_blank\">ici</a>.&nbsp\;</p>\n\n<p>&nbsp\;</p>\n\n<p>&nbsp\;</p>\n\n<p>&nbsp\;</p>\n<p><a href="http://www.happyvisio.com/conference/7682-l-agirc-arrco-et-son-offre-de-services-pour-toutes-les-generations-a-toutes-les-etapes-de-la-vie">Cliquez-ici pour obtenir plus d’informations ou vous connecter à la conférence</a></p>
X-ALT-DESC;FMTTYPE=text/html:<p><b>Titre de la conférence</b> : L’AGIRC-ARRCO et son offre de services : pour toutes les générations, à toutes les étapes de la vie </p>
 <p><b>Date et heure de la conférence</b> : 02/10/2025 10h00</p>
 <p><b>Durée de la conférence </b>: 90 minutes</p>
 <b>Description</b> : <p>Vous &ecirc\;tes retrait&eacute\; AGIRC-ARRCO ? Venez vous informer sur nos services :<br />\n<br />\n&bull\;&nbsp\; &nbsp\;<strong> Retraite :</strong> Cumul emploi retraite\, r&eacute\;version\, pr&eacute\;l&egrave\;vements sociaux\, d&eacute\;marches en ligne&hellip\;<br />\n&bull\;&nbsp\; &nbsp\; <strong>Accompagnement et de pr&eacute\;vention</strong> : &eacute\;v&egrave\;nements organis&eacute\;s en territoire\, bilan de pr&eacute\;vention\, aidant\, soutien &agrave\; domicile&hellip\;<br />\n<br />\n<br />\nCette conf&eacute\;rence est propos&eacute\;e par l&#39\;<a href=\"https://www.agirc-arrco.fr/\" target=\"_blank\">Agirc</a><a href=\"https://www.agirc-arrco.fr/\" target=\"_blank\">&nbsp\;Arrco</a>.</p>\n\n<p style=\"text-align:justify\">L&rsquo\;Agirc-Arrco vous propose de participer &agrave\; des &eacute\;v&eacute\;nements organis&eacute\;s au plus pr&egrave\;s de chez vous en pr&eacute\;sentiel : Conf&eacute\;rences\, Forum\, Th&eacute\;&acirc\;tres\, Activit&eacute\;s physiques. Pour d&eacute\;couvrir ces activit&eacute\;s et vous y inscrire\, veuillez cliquer&nbsp\;<a href=\"https://www.agirc-arrco.fr/particuliers/mes-services-particuliers/accompagnement-et-prevention/je-participe-a-un-evenement/\" target=\"_blank\">ici.</a></p>\n\n<p style=\"text-align:justify\">Pour d&eacute\;couvrir la programmation &quot\;Les Mardis de l&#39\;Agirc-Arrco&quot\; cliquez&nbsp\;<a href=\"https://www.happyvisio.com/invitation/programme?list=36\" target=\"_blank\">ici</a>.&nbsp\;</p>\n\n<p>&nbsp\;</p>\n\n<p>&nbsp\;</p>\n\n<p>&nbsp\;</p>\n<p><a href="http://www.happyvisio.com/conference/7682-l-agirc-arrco-et-son-offre-de-services-pour-toutes-les-generations-a-toutes-les-etapes-de-la-vie">Cliquez-ici pour obtenir plus d’informations ou vous connecter à la conférence</a></p>
END:VEVENT
END:VCALENDAR
