BEGIN:VCALENDAR
VERSION:2.0
BEGIN:VEVENT
TZID:Europe/Paris
STATUS:CONFIRMED
DTSTART:20251001T163000
DTEND:20251001T171500
SUMMARY:Yoga du rire - le 1er octobre
DESCRIPTION:TITRE DE LA CONFÉRENCE : Yoga du rire - le 1er octobre\n\nDATE ET HEURE DE LA CONFÉRENCE : 01/10/2025 16h30\n\nDURÉE DE LA CONFÉRENCE : 45 minutes\n\nDESCRIPTION : Rire est bon pour la santé !\n\nSi le rire est essentiel à notre vie\, il apporte un grand nombre de bienfaits tant sur le plan psychique\, que sur le plan physique\, car il oxygène aussi bien le cerveau que le corps.\n\nCette séance se veut participative\, nous inviterons ceux qui le souhaitent à allumer leur micro et leur caméra pour rire avec Jacky (dans la limite de 7 participants).\n\nLe yoga du rire est un concept original et unique \, qui allie les rires aux respirations du yoga.\nPas la peine d'avoir de l'humour\, ni de savoir raconter des blagues\, seul le rire sans raison vous fera rapidement accéder à votre rire naturel et communicatif.\n\nEt quand on sait que le corps ne fait pas de différence entre le rire simulé et le rire spontané\, on imagine bien tous les bénéfices que nous pouvons tirer du rire.\n\nJacky adore rire\, et il saura vous le communiquer\, alors n'attendez pas inscrivez-vous pour rire en ligne avec lui.\n\nCliquez sur le lien suivant pour plus d'informations ou vous connecter à la conférence : http://www.happyvisio.com/conference/7680-yoga-du-rire-le-1er-octobre
X-ALT-DESC;FMTTYPE=text/html:TITRE DE LA CONFÉRENCE : Yoga du rire - le 1er octobre DATE ET HEURE DE LA CONFÉRENCE : 01/10/2025 16h30 DURÉE DE LA CONFÉRENCE : 45 minutes DESCRIPTION : Rire est bon pour la santé !\n\nSi le rire est essentiel à notre vie\, il apporte un grand nombre de bienfaits tant sur le plan psychique\, que sur le plan physique\, car il oxygène aussi bien le cerveau que le corps.\n\nCette séance se veut participative\, nous inviterons ceux qui le souhaitent à allumer leur micro et leur caméra pour rire avec Jacky (dans la limite de 7 participants).\n\nLe yoga du rire est un concept original et unique \, qui allie les rires aux respirations du yoga.\nPas la peine d'avoir de l'humour\, ni de savoir raconter des blagues\, seul le rire sans raison vous fera rapidement accéder à votre rire naturel et communicatif.\n\nEt quand on sait que le corps ne fait pas de différence entre le rire simulé et le rire spontané\, on imagine bien tous les bénéfices que nous pouvons tirer du rire.\n\nJacky adore rire\, et il saura vous le communiquer\, alors n'attendez pas inscrivez-vous pour rire en ligne avec lui.\n\nCliquez sur le lien suivant pour plus d'informations ou vous connecter à la conférence : http://www.happyvisio.com/conference/7680-yoga-du-rire-le-1er-octobre
END:VEVENT
END:VCALENDAR
