BEGIN:VCALENDAR
VERSION:2.0
BEGIN:VEVENT
TZID:Europe/Paris
STATUS:CONFIRMED
DTSTART:20251014T100000
DTEND:20251014T104500
SUMMARY:Happy Qi Gong - 14 octobre
DESCRIPTION:<p><b>Titre de la conférence</b> : Happy Qi Gong - 14 octobre </p>
 <p><b>Date et heure de la conférence</b> : 14/10/2025 10h00</p>
 <p><b>Durée de la conférence </b>: 45 minutes</p>
 <b>Description</b> : <p>QI GONG ET ENERGIE chez HAPPYVISIO c&#39\;est :<br />\nLa pratique et la ma&icirc\;trise :</p>\n\n<ul>\n	<li>de la respiration et de la concentration.</li>\n	<li>des postures statiques</li>\n	<li>des mouvements lents</li>\n	<li>des marches</li>\n	<li>des sons</li>\n	<li>des auto-massages</li>\n	<li>des m&eacute\;ditations</li>\n</ul>\n\n<p><strong>Programme des premi&egrave\;res semaines :</strong><br />\n&bull\; Echauffement.<br />\n&bull\; Apprentissage d&eacute\;taill&eacute\; d&#39\;un mouvement &agrave\; chaque s&eacute\;ance\, pour progresser dans<br />\nsa pratique.<br />\n&bull\; Pratique du QI GONG des 5 &eacute\;l&eacute\;ments complet (9 mouvements).<br />\n&bull\; Posture Zhan Zhuang (m&eacute\;ditation tao&iuml\;ste) : Wuji.<br />\n<br />\n<strong>Retrouvez le programme complet dans la section documents li&eacute\;s.</strong></p>\n\n<p>Qu&#39\;&#39\;est ce que Le QI GONG ?</p>\n\n<ul>\n	<li>Le QI GONG est une pratique faisant partie de la tradition chinoise.<br />\n	&nbsp\;</li>\n	<li>QI\, en langage courant\, veut dire souffle. Gong veut dire travail.Le QI GONG\, c&#39\;est le travail du souffle. C&#39\;est le travail sur et avec l&#39\;&eacute\;nergie vitale.<br />\n	&nbsp\;</li>\n	<li>QI GONG est un terme g&eacute\;n&eacute\;rique qui d&eacute\;signe des exercices et des m&eacute\;thodes aussi divers que nombreux\, dont la pratique r&eacute\;guli&egrave\;re permet de retrouver ou de conserver l&#39\;&eacute\;quilibre indispensable &agrave\; une vie harmonieuse.<br />\n	&nbsp\;</li>\n	<li>Le QI GONG est l&#39\;association du mouvement\, de la respiration et de la concentration qui donne toute sa puissance &agrave\; ses exercices.<br />\n	&nbsp\;</li>\n	<li>Une fois que votre souffle se prolonge et circule partout dans votre corps sans obstacle\, votre &eacute\;nergie vitale est nourrie et r&eacute\;g&eacute\;n&eacute\;r&eacute\;e.<br />\n	&nbsp\;</li>\n	<li>C&#39\;est la mise en mouvement du QI (souffle\, &eacute\;nergie\, vitalit&eacute\;) par diff&eacute\;rents proc&eacute\;d&eacute\;s qui\, permettent de r&eacute\;tablir l&#39\;&eacute\;quilibre de l&#39\;organisme.</li>\n</ul>\n<p><a href="http://www.happyvisio.com/conference/7677-happy-qi-gong-14-octobre">Cliquez-ici pour obtenir plus d’informations ou vous connecter à la conférence</a></p>
X-ALT-DESC;FMTTYPE=text/html:<p><b>Titre de la conférence</b> : Happy Qi Gong - 14 octobre </p>
 <p><b>Date et heure de la conférence</b> : 14/10/2025 10h00</p>
 <p><b>Durée de la conférence </b>: 45 minutes</p>
 <b>Description</b> : <p>QI GONG ET ENERGIE chez HAPPYVISIO c&#39\;est :<br />\nLa pratique et la ma&icirc\;trise :</p>\n\n<ul>\n	<li>de la respiration et de la concentration.</li>\n	<li>des postures statiques</li>\n	<li>des mouvements lents</li>\n	<li>des marches</li>\n	<li>des sons</li>\n	<li>des auto-massages</li>\n	<li>des m&eacute\;ditations</li>\n</ul>\n\n<p><strong>Programme des premi&egrave\;res semaines :</strong><br />\n&bull\; Echauffement.<br />\n&bull\; Apprentissage d&eacute\;taill&eacute\; d&#39\;un mouvement &agrave\; chaque s&eacute\;ance\, pour progresser dans<br />\nsa pratique.<br />\n&bull\; Pratique du QI GONG des 5 &eacute\;l&eacute\;ments complet (9 mouvements).<br />\n&bull\; Posture Zhan Zhuang (m&eacute\;ditation tao&iuml\;ste) : Wuji.<br />\n<br />\n<strong>Retrouvez le programme complet dans la section documents li&eacute\;s.</strong></p>\n\n<p>Qu&#39\;&#39\;est ce que Le QI GONG ?</p>\n\n<ul>\n	<li>Le QI GONG est une pratique faisant partie de la tradition chinoise.<br />\n	&nbsp\;</li>\n	<li>QI\, en langage courant\, veut dire souffle. Gong veut dire travail.Le QI GONG\, c&#39\;est le travail du souffle. C&#39\;est le travail sur et avec l&#39\;&eacute\;nergie vitale.<br />\n	&nbsp\;</li>\n	<li>QI GONG est un terme g&eacute\;n&eacute\;rique qui d&eacute\;signe des exercices et des m&eacute\;thodes aussi divers que nombreux\, dont la pratique r&eacute\;guli&egrave\;re permet de retrouver ou de conserver l&#39\;&eacute\;quilibre indispensable &agrave\; une vie harmonieuse.<br />\n	&nbsp\;</li>\n	<li>Le QI GONG est l&#39\;association du mouvement\, de la respiration et de la concentration qui donne toute sa puissance &agrave\; ses exercices.<br />\n	&nbsp\;</li>\n	<li>Une fois que votre souffle se prolonge et circule partout dans votre corps sans obstacle\, votre &eacute\;nergie vitale est nourrie et r&eacute\;g&eacute\;n&eacute\;r&eacute\;e.<br />\n	&nbsp\;</li>\n	<li>C&#39\;est la mise en mouvement du QI (souffle\, &eacute\;nergie\, vitalit&eacute\;) par diff&eacute\;rents proc&eacute\;d&eacute\;s qui\, permettent de r&eacute\;tablir l&#39\;&eacute\;quilibre de l&#39\;organisme.</li>\n</ul>\n<p><a href="http://www.happyvisio.com/conference/7677-happy-qi-gong-14-octobre">Cliquez-ici pour obtenir plus d’informations ou vous connecter à la conférence</a></p>
END:VEVENT
END:VCALENDAR
