BEGIN:VCALENDAR
VERSION:2.0
BEGIN:VEVENT
TZID:Europe/Paris
STATUS:CONFIRMED
DTSTART:20251006T103000
DTEND:20251006T113000
SUMMARY:Salarié.e et aidant.e : quelles solutions existent ?
DESCRIPTION:TITRE DE LA CONFÉRENCE : Salarié.e et aidant.e : quelles solutions existent ?\n\nDATE ET HEURE DE LA CONFÉRENCE : 06/10/2025 10h30\n\nDURÉE DE LA CONFÉRENCE : 60 minutes\n\nDESCRIPTION : Le handicap\, la maladie\, la perte d'autonomie peuvent toucher l'un de vos proches. Il n'est jamais trop tôt pour s'informer.\n\nQue vous soyez déjà aidant ou simplement désireux de mieux comprendre la situation\, ce webinaire est pour vous.\n\nNous explorerons les ressources et dispositifs d'aide existants\, vous donnerons des conseils concrets pour une meilleure conciliation de votre vie professionnelle et de votre rôle d'aidant\, et vous ferons découvrir des solutions de répit essentielles.\n\nCliquez sur le lien suivant pour plus d'informations ou vous connecter à la conférence : http://www.happyvisio.com/conference/7664-salarie-e-et-aidant-e-quelles-solutions-existent
X-ALT-DESC;FMTTYPE=text/html:TITRE DE LA CONFÉRENCE : Salarié.e et aidant.e : quelles solutions existent ? DATE ET HEURE DE LA CONFÉRENCE : 06/10/2025 10h30 DURÉE DE LA CONFÉRENCE : 60 minutes DESCRIPTION : Le handicap\, la maladie\, la perte d'autonomie peuvent toucher l'un de vos proches. Il n'est jamais trop tôt pour s'informer.\n\nQue vous soyez déjà aidant ou simplement désireux de mieux comprendre la situation\, ce webinaire est pour vous.\n\nNous explorerons les ressources et dispositifs d'aide existants\, vous donnerons des conseils concrets pour une meilleure conciliation de votre vie professionnelle et de votre rôle d'aidant\, et vous ferons découvrir des solutions de répit essentielles.\n\nCliquez sur le lien suivant pour plus d'informations ou vous connecter à la conférence : http://www.happyvisio.com/conference/7664-salarie-e-et-aidant-e-quelles-solutions-existent
END:VEVENT
END:VCALENDAR
