BEGIN:VCALENDAR
VERSION:2.0
BEGIN:VEVENT
TZID:Europe/Paris
STATUS:CONFIRMED
DTSTART:20251202T163000
DTEND:20251202T171500
SUMMARY:Et vous, qu'écrirez-vous ? - Et après ?
DESCRIPTION:TITRE DE LA CONFÉRENCE : Et vous, qu'écrirez-vous ? - Et après ?\n\nDATE ET HEURE DE LA CONFÉRENCE : 02/12/2025 16h30\n\nDURÉE DE LA CONFÉRENCE : 45 minutes\n\nDESCRIPTION : Thématique : Comment continuer à développer\, étoffer son récit... ou conclure ?\n\nUn cycle d'ateliers pour trouver des pistes d'écriture\, exercer sa plume et échanger sur l'écriture.\n\nChaque séance peut être suivie séparément\, mais le cycle complet vous permet d'élaborer une structure de récit au fur et à mesure des séances (dans ce cas\, pensez à conserver vos notes d'une séance à l'autre).\n\nCliquez sur le lien suivant pour plus d'informations ou vous connecter à la conférence : http://www.happyvisio.com/conference/7661-et-vous-qu-ecrirez-vous-et-apres
X-ALT-DESC;FMTTYPE=text/html:TITRE DE LA CONFÉRENCE : Et vous, qu'écrirez-vous ? - Et après ? DATE ET HEURE DE LA CONFÉRENCE : 02/12/2025 16h30 DURÉE DE LA CONFÉRENCE : 45 minutes DESCRIPTION : Thématique : Comment continuer à développer\, étoffer son récit... ou conclure ?\n\nUn cycle d'ateliers pour trouver des pistes d'écriture\, exercer sa plume et échanger sur l'écriture.\n\nChaque séance peut être suivie séparément\, mais le cycle complet vous permet d'élaborer une structure de récit au fur et à mesure des séances (dans ce cas\, pensez à conserver vos notes d'une séance à l'autre).\n\nCliquez sur le lien suivant pour plus d'informations ou vous connecter à la conférence : http://www.happyvisio.com/conference/7661-et-vous-qu-ecrirez-vous-et-apres
END:VEVENT
END:VCALENDAR
