BEGIN:VCALENDAR
VERSION:2.0
BEGIN:VEVENT
TZID:Europe/Paris
STATUS:CONFIRMED
DTSTART:20251104T163000
DTEND:20251104T171500
SUMMARY:Et vous, qu'écrirez-vous ? - On peut toujours rêver !
DESCRIPTION:<p><b>Titre de la conférence</b> : Et vous, qu'écrirez-vous ? - On peut toujours rêver ! </p>
 <p><b>Date et heure de la conférence</b> : 04/11/2025 16h30</p>
 <p><b>Durée de la conférence </b>: 45 minutes</p>
 <b>Description</b> : <p style=\"margin-left:0\; margin-right:0\"><strong>Th&eacute\;matique : Les pistes de l&#39\;imaginaire (psychologie du personnage et du r&eacute\;cit int&eacute\;rieur)</strong></p>\n\n<p style=\"margin-left:0\; margin-right:0\">Un cycle d&#39\;ateliers pour trouver des pistes d&#39\;&eacute\;criture\, exercer sa plume et &eacute\;changer sur l&#39\;&eacute\;criture.</p>\n\n<p style=\"margin-left:0\; margin-right:0\">Chaque s&eacute\;ance peut &ecirc\;tre suivie s&eacute\;par&eacute\;ment\, mais le cycle complet vous permet d&#39\;&eacute\;laborer une structure de r&eacute\;cit au fur et &agrave\; mesure des s&eacute\;ances (dans ce cas\, pensez &agrave\; conserver vos notes d&#39\;une s&eacute\;ance &agrave\; l&#39\;autre).</p>\n<p><a href="http://www.happyvisio.com/conference/7660-et-vous-qu-ecrirez-vous-on-peut-toujours-rever">Cliquez-ici pour obtenir plus d’informations ou vous connecter à la conférence</a></p>
X-ALT-DESC;FMTTYPE=text/html:<p><b>Titre de la conférence</b> : Et vous, qu'écrirez-vous ? - On peut toujours rêver ! </p>
 <p><b>Date et heure de la conférence</b> : 04/11/2025 16h30</p>
 <p><b>Durée de la conférence </b>: 45 minutes</p>
 <b>Description</b> : <p style=\"margin-left:0\; margin-right:0\"><strong>Th&eacute\;matique : Les pistes de l&#39\;imaginaire (psychologie du personnage et du r&eacute\;cit int&eacute\;rieur)</strong></p>\n\n<p style=\"margin-left:0\; margin-right:0\">Un cycle d&#39\;ateliers pour trouver des pistes d&#39\;&eacute\;criture\, exercer sa plume et &eacute\;changer sur l&#39\;&eacute\;criture.</p>\n\n<p style=\"margin-left:0\; margin-right:0\">Chaque s&eacute\;ance peut &ecirc\;tre suivie s&eacute\;par&eacute\;ment\, mais le cycle complet vous permet d&#39\;&eacute\;laborer une structure de r&eacute\;cit au fur et &agrave\; mesure des s&eacute\;ances (dans ce cas\, pensez &agrave\; conserver vos notes d&#39\;une s&eacute\;ance &agrave\; l&#39\;autre).</p>\n<p><a href="http://www.happyvisio.com/conference/7660-et-vous-qu-ecrirez-vous-on-peut-toujours-rever">Cliquez-ici pour obtenir plus d’informations ou vous connecter à la conférence</a></p>
END:VEVENT
END:VCALENDAR
