BEGIN:VCALENDAR
VERSION:2.0
BEGIN:VEVENT
TZID:Europe/Paris
STATUS:CONFIRMED
DTSTART:20251119T163000
DTEND:20251119T171500
SUMMARY:L’esprit des plantes : l’hélichryse
DESCRIPTION:TITRE DE LA CONFÉRENCE : L’esprit des plantes : l’hélichryse\n\nDATE ET HEURE DE LA CONFÉRENCE : 19/11/2025 16h30\n\nDURÉE DE LA CONFÉRENCE : 45 minutes\n\nDESCRIPTION : Ce cycle de conférences vous invite à explorer l’univers fascinant des plantes médicinales et aromatiques à travers leurs usages\, leurs symboles\, leurs histoires et leurs bienfaits. Une plongée vivante entre nature\, culture et sensations\, pour nourrir à la fois la mémoire\, les sens… et l’esprit.\n\nCliquez sur le lien suivant pour plus d'informations ou vous connecter à la conférence : http://www.happyvisio.com/conference/7658-l-esprit-des-plantes-l-helichryse
X-ALT-DESC;FMTTYPE=text/html:TITRE DE LA CONFÉRENCE : L’esprit des plantes : l’hélichryse DATE ET HEURE DE LA CONFÉRENCE : 19/11/2025 16h30 DURÉE DE LA CONFÉRENCE : 45 minutes DESCRIPTION : Ce cycle de conférences vous invite à explorer l’univers fascinant des plantes médicinales et aromatiques à travers leurs usages\, leurs symboles\, leurs histoires et leurs bienfaits. Une plongée vivante entre nature\, culture et sensations\, pour nourrir à la fois la mémoire\, les sens… et l’esprit.\n\nCliquez sur le lien suivant pour plus d'informations ou vous connecter à la conférence : http://www.happyvisio.com/conference/7658-l-esprit-des-plantes-l-helichryse
END:VEVENT
END:VCALENDAR
