BEGIN:VCALENDAR
VERSION:2.0
BEGIN:VEVENT
TZID:Europe/Paris
STATUS:CONFIRMED
DTSTART:20251120T143000
DTEND:20251120T153000
SUMMARY:Retrouvez un sommeil de qualité avec des techniques simples
DESCRIPTION:TITRE DE LA CONFÉRENCE : Retrouvez un sommeil de qualité avec des techniques simples\n\nDATE ET HEURE DE LA CONFÉRENCE : 20/11/2025 14h30\n\nDURÉE DE LA CONFÉRENCE : 60 minutes\n\nDESCRIPTION : Avec l'âge\, le sommeil évolue naturellement… mais il n'est pas une fatalité de mal dormir !\n\nIdentifiez les obstacles aux nuits réparatrices et découvrez comment mettre en place un plan d'action simple et efficace pour améliorer la qualité de vos nuits.\n\nUn bon moment ensemble\, en toute bienveillance\, pour repartir avec des conseils concrets\, faciles à appliquer dès le soir-même !\n\n \n\nCliquez sur le lien suivant pour plus d'informations ou vous connecter à la conférence : http://www.happyvisio.com/conference/7657-retrouvez-un-sommeil-de-qualite-avec-des-techniques-simples
X-ALT-DESC;FMTTYPE=text/html:TITRE DE LA CONFÉRENCE : Retrouvez un sommeil de qualité avec des techniques simples DATE ET HEURE DE LA CONFÉRENCE : 20/11/2025 14h30 DURÉE DE LA CONFÉRENCE : 60 minutes DESCRIPTION : Avec l'âge\, le sommeil évolue naturellement… mais il n'est pas une fatalité de mal dormir !\n\nIdentifiez les obstacles aux nuits réparatrices et découvrez comment mettre en place un plan d'action simple et efficace pour améliorer la qualité de vos nuits.\n\nUn bon moment ensemble\, en toute bienveillance\, pour repartir avec des conseils concrets\, faciles à appliquer dès le soir-même !\n\n \n\nCliquez sur le lien suivant pour plus d'informations ou vous connecter à la conférence : http://www.happyvisio.com/conference/7657-retrouvez-un-sommeil-de-qualite-avec-des-techniques-simples
END:VEVENT
END:VCALENDAR
